BEGIN:VCALENDAR
VERSION:2.0
PRODID:-//ChamberMaster//Event Calendar 2.0//EN
METHOD:PUBLISH
X-PUBLISHED-TTL:P3D
REFRESH-INTERVAL:P3D
CALSCALE:GREGORIAN
BEGIN:VEVENT
DTSTART:20170311T000000Z
DTEND:20170311T023000Z
X-MICROSOFT-CDO-ALLDAYEVENT:FALSE
SUMMARY:The Music Hall Theater presents: Manchester By The Sea
DESCRIPTION:Nominated for six Oscars\, including Best Picture. After the death of his older brother Joe (Kyle Chandler)\, Lee Chandler (Casey Affleck) is shocked to learn that Joe has made him sole guardian of his nephew Patrick (Lucas Hedges). Taking leave of his job\, Lee reluctantly returns to Manchester-by-the-Sea to care for Patrick\, a spirited 16-year-old\, and is forced to deal with a past that separated him from his wife Randi (Michelle Williams) and the community where he was born and raised.
X-ALT-DESC;FMTTYPE=text/html:Nominated for six Oscars\, including Best Picture. After the death of his older brother Joe (Kyle Chandler)\, Lee Chandler (Casey Affleck) is shocked to learn that Joe has made him sole guardian of his nephew Patrick (Lucas Hedges). Taking leave of his job\, Lee reluctantly returns to Manchester-by-the-Sea to care for Patrick\, a spirited 16-year-old\, and is forced to deal with a past that separated him from his wife Randi (Michelle Williams) and the community where he was born and raised.
LOCATION:The Historic Theater 28 Chestnut Street Portsmouth\, NH
UID:e.1659.30068
SEQUENCE:3
DTSTAMP:20260421T151607Z
URL:https://business.portsmouthchamber.org/events/details/the-music-hall-theater-presents-manchester-by-the-sea-30068
END:VEVENT

END:VCALENDAR
