BEGIN:VCALENDAR
VERSION:2.0
PRODID:-//ChamberMaster//Event Calendar 2.0//EN
METHOD:PUBLISH
X-PUBLISHED-TTL:P3D
REFRESH-INTERVAL:P3D
CALSCALE:GREGORIAN
BEGIN:VEVENT
DTSTART:20170312T200000Z
DTEND:20170312T230000Z
X-MICROSOFT-CDO-ALLDAYEVENT:FALSE
SUMMARY:The Music Hall Theater presents: The Ten Tenors
DESCRIPTION:Celebrated for their wonderfully vast repertoire\, breathtaking arrangements and powerful live performances\, The TEN Tenors respectfully tip their hats not only to the great classical tenors and composers\, but also contemporary music's most popular artists. From Bowie to Bocelli\, an evening with The TEN Tenors is guaranteed to surprise and delight in equal measure.
X-ALT-DESC;FMTTYPE=text/html:Celebrated for their wonderfully vast repertoire\, breathtaking arrangements and powerful live performances\, The TEN Tenors respectfully tip their hats not only to the great classical tenors and composers\, but also contemporary music&rsquo\;s most popular artists. From Bowie to Bocelli\, an evening with The TEN Tenors is guaranteed to surprise and delight in equal measure.
LOCATION:The Historic Theater 28 Chestnut Street Portsmouth\, NH
UID:e.1659.30078
SEQUENCE:3
DTSTAMP:20260421T151606Z
URL:https://business.portsmouthchamber.org/events/details/the-music-hall-theater-presents-the-ten-tenors-30078
END:VEVENT

END:VCALENDAR
