BEGIN:VCALENDAR
VERSION:2.0
PRODID:-//ChamberMaster//Event Calendar 2.0//EN
METHOD:PUBLISH
X-PUBLISHED-TTL:P3D
REFRESH-INTERVAL:P3D
CALSCALE:GREGORIAN
BEGIN:VEVENT
DTSTART;VALUE=DATE:20161214
DTEND;VALUE=DATE:20161215
TRANSP:TRANSPARENT
X-MICROSOFT-CDO-ALLDAYEVENT:TRUE
SUMMARY:The Players' Ring Presents: A Christmas Carol
DESCRIPTION:Bring the whole family to see Mr. Scrooge discover the true meaning of Christmas in Charles Dickens' A Christmas Carol\, as adapted by Players' Ring founder Gary Newton. More information coming soon.
X-ALT-DESC;FMTTYPE=text/html:Bring the whole family to see Mr. Scrooge discover the true meaning of Christmas in Charles Dickens' A Christmas Carol\, as adapted by Players' Ring founder Gary Newton. More information coming soon.
LOCATION:105 Marcy Street Portsmouth
UID:e.1659.26935
SEQUENCE:3
DTSTAMP:20260421T211022Z
URL:https://business.portsmouthchamber.org/events/details/the-players-ring-presents-a-christmas-carol-12-14-2016-26935
END:VEVENT

END:VCALENDAR
