BEGIN:VCALENDAR
VERSION:2.0
PRODID:-//ChamberMaster//Event Calendar 2.0//EN
METHOD:PUBLISH
X-PUBLISHED-TTL:P3D
REFRESH-INTERVAL:P3D
CALSCALE:GREGORIAN
BEGIN:VEVENT
DTSTART:20161107T010000Z
DTEND:20161107T030000Z
X-MICROSOFT-CDO-ALLDAYEVENT:FALSE
SUMMARY:The Players' Ring Presents: A tribute to F. Gary Newton
DESCRIPTION:If Gary Newton were here with us today\, he would be so proud of how much growth has taken place over the years in this little black box theatre that he dreamed of so long ago. His extraordinary vision of nurturing new artists and playwrights and allowing them an affordable space to bring their productions\, passion projects\, and workshops to life here at Players' Ring continues to thrive after 25 years! This Season\, we felt that it was important to share with our audience some of Gary's magic back to the stage through stories and shared memories as well as some of his own original work . Please join us the weekend of November 4   6 for a very special Tribute to the Players' Ring Visionary and founder F. Gary Newton.
X-ALT-DESC;FMTTYPE=text/html:If Gary Newton were here with us today\, he would be so proud of how much growth has taken place over the years in this little black box theatre that he dreamed of so long ago. His extraordinary vision of nurturing new artists and playwrights and allowing them an affordable space to bring their productions\, passion projects\, and workshops to life here at Players&rsquo\; Ring continues to thrive after 25 years! This Season\, we felt that it was important to share with our audience some of Gary&rsquo\;s magic back to the stage through stories and shared memories as well as some of his own original work . Please join us the weekend of November 4 &ndash\; 6 for a very special Tribute to the Players&rsquo\; Ring Visionary and founder F. Gary Newton.
LOCATION:105 Marcy Street Portsmouth
UID:e.1659.27569
SEQUENCE:3
DTSTAMP:20260421T213131Z
URL:https://business.portsmouthchamber.org/events/details/the-players-ring-presents-a-tribute-to-f-gary-newton-11-06-2016-27569
END:VEVENT

END:VCALENDAR
