BEGIN:VCALENDAR
VERSION:2.0
PRODID:-//ChamberMaster//Event Calendar 2.0//EN
METHOD:PUBLISH
X-PUBLISHED-TTL:P3D
REFRESH-INTERVAL:P3D
CALSCALE:GREGORIAN
BEGIN:VEVENT
DTSTART:20170506T000000Z
DTEND:20170506T020000Z
X-MICROSOFT-CDO-ALLDAYEVENT:FALSE
SUMMARY:The Players Ring presents: All the Way
DESCRIPTION:All the Way follows President Lyndon Baines Johnson from the moment of November 22\, 1963\, right after President John F. Kennedy is assassinated in Dallas\, when Lyndon Johnson takes the oath of office as President.\n\n\n\nWith the country still in shock\, LBJ\, mindful that he is an accidental president\, moves to shore up confidence in his new administration by vowing to carry on the Kennedy legacy\; in an address to congress he dedicates himself to the passage of the Kennedy's Civil Rights Bill that is languishing in the committees of Congress\, surprising those who think they know him best as a polticial operative rather than an ethical crusader.\n\n\n\nDeftly moving from assuring civil rights leaders like Martin Luther King\, Jr.\, Roy Wilkins\, Ralph Abernathy and Stokely Carmichael and stroking the egos while dampening the fears of Southern politicians like Sen. Richard Russell\, Sen. James Eastland and Rep. Howard "Judge" Smith\, LBJ goes from back-slapping good ol' boy to sneering\, threatening egotist \, shaking hands\, making promises\, twisting arms and even using bribery\, even as the South hopes he will gut the bill just like he did with the 1957 Civil Rights Act.\n\n\n\nWhat follows from January to July 1964 is a covert intrigue-filled battle as LBJ attempts to gain the necessary votes for the bill.\n\n\n\nKing and other leaders in the civil rights movement argue about what to do to secure voting rights\, which is not a part of the Civil Rights Bill.\n\n\n\nActivists like Bob Moses and Stokely Carmichael come up with the idea of Freedom Summer: to send hundreds of white and black volunteers to Mississippi to register voters. .\n\n\n\nIn addition\, as LBJ is set to face election in November 1964 only months away\, he is then met with a series of huge challenges.\n\n\n\nRarely has a president faced so much in such a brief moment of history:\n\n\n\nA threat in the Democratic Party Primaries by the segregationist governor of Alabama\, George Wallace's run for president.\n\nBombings\, violence and the crisis posed by the deaths of three civil rights workers in Mississippi.\n\n\n\nFBI director J. Edgar Hoover's attempts to derail civil rights progress by a smear campaign against Martin Luther King\, Jr.\n\n\n\nThe incident in the Gulf of Tonkin which created a political and foreign policy crisis over Vietnam right before the election.\n\n\n\nA challenge at the Democratic convention to the all-white Mississippi delegation by the Mississippi Freedom Democratic Party which seeks to gain to black representation.\n\n\n\nIn these days of increased awareness of the political and legal process that shapes our country's laws and the deep divides that still define so many of us\, this play not only brings to life a crucial time in our history\, with all of the doubt\, anger\, fear and violence\, but vividly reflects today's struggles for equal rights that are still being fought daily.\n\n\n\nThis story is timeless\, with its central characters Shakespearean in their depth and complexity.\n\n\n\nNeither hero nor villain\, LBJ is portrayed in all of his glory\, swearing and threatening one moment\, and charming and cooing the next.
X-ALT-DESC;FMTTYPE=text/html:All the Way follows President Lyndon Baines Johnson from the moment of November 22\, 1963\, right after President John F. Kennedy is assassinated in Dallas\, when Lyndon Johnson takes the oath of office as President.<br />\n<br />\nWith the country still in shock\, LBJ\, mindful that he is an accidental president\, moves to shore up confidence in his new administration by vowing to carry on the Kennedy legacy\; in an address to congress he dedicates himself to the passage of the Kennedy&#39\;s Civil Rights Bill that is languishing in the committees of Congress\, surprising those who think they know him best as a polticial operative rather than an ethical crusader.<br />\n<br />\nDeftly moving from assuring civil rights leaders like Martin Luther King\, Jr.\, Roy Wilkins\, Ralph Abernathy and Stokely Carmichael and stroking the egos while dampening the fears of Southern politicians like Sen. Richard Russell\, Sen. James Eastland and Rep. Howard &ldquo\;Judge&rdquo\; Smith\, LBJ goes from back-slapping good ol&#39\; boy to sneering\, threatening egotist \, shaking hands\, making promises\, twisting arms and even using bribery\, even as the South hopes he will gut the bill just like he did with the 1957 Civil Rights Act.<br />\n<br />\nWhat follows from January to July 1964 is a covert intrigue-filled battle as LBJ attempts to gain the necessary votes for the bill.<br />\n<br />\nKing and other leaders in the civil rights movement argue about what to do to secure voting rights\, which is not a part of the Civil Rights Bill.<br />\n<br />\nActivists like Bob Moses and Stokely Carmichael come up with the idea of Freedom Summer: to send hundreds of white and black volunteers to Mississippi to register voters. .<br />\n<br />\nIn addition\, as LBJ is set to face election in November 1964 only months away\, he is then met with a series of huge challenges.<br />\n<br />\nRarely has a president faced so much in such a brief moment of history:<br />\n<br />\nA threat in the Democratic Party Primaries by the segregationist governor of Alabama\, George Wallace&rsquo\;s run for president.<br />\nBombings\, violence and the crisis posed by the deaths of three civil rights workers in Mississippi.<br />\n<br />\nFBI director J. Edgar Hoover&rsquo\;s attempts to derail civil rights progress by a smear campaign against Martin Luther King\, Jr.<br />\n<br />\nThe incident in the Gulf of Tonkin which created a political and foreign policy crisis over Vietnam right before the election.<br />\n<br />\nA challenge at the Democratic convention to the all-white Mississippi delegation by the Mississippi Freedom Democratic Party which seeks to gain to black representation.<br />\n<br />\nIn these days of increased awareness of the political and legal process that shapes our country&#39\;s laws and the deep divides that still define so many of us\, this play not only brings to life a crucial time in our history\, with all of the doubt\, anger\, fear and violence\, but vividly reflects today&#39\;s struggles for equal rights that are still being fought daily.<br />\n<br />\nThis story is timeless\, with its central characters Shakespearean in their depth and complexity.<br />\n<br />\nNeither hero nor villain\, LBJ is portrayed in all of his glory\, swearing and threatening one moment\, and charming and cooing the next.
LOCATION:The Players Ring 105 Marcy St.\, Portsmouth
UID:e.1659.28921
SEQUENCE:3
DTSTAMP:20260421T120148Z
URL:https://business.portsmouthchamber.org/events/details/the-players-ring-presents-all-the-way-05-05-2017-28921
END:VEVENT

END:VCALENDAR
