BEGIN:VCALENDAR
VERSION:2.0
PRODID:-//ChamberMaster//Event Calendar 2.0//EN
METHOD:PUBLISH
X-PUBLISHED-TTL:P3D
REFRESH-INTERVAL:P3D
CALSCALE:GREGORIAN
BEGIN:VEVENT
DTSTART:20161030T230000Z
DTEND:20161031T010000Z
X-MICROSOFT-CDO-ALLDAYEVENT:FALSE
SUMMARY:The Players' Ring Presents: Bitter Pill
DESCRIPTION:The Songs of Billy Butler as Conceptualized by The Mad Men of Oopsy Daisy Inc. is twenty-four song cycle in the vain of Jacques Brel Is Alive And Well  with a nod to Edward Gorey\, Tim Burton\, and Jim Henson. Each song is a fully produced spectacle brought to life by an ensemble of performers and musicians with: puppets\, aerial dancing\, shadows\, darkness\, light\, cirque\, burlesque\, mechanicals\, marionettes\, comedy\, tragedy\, razzle-dazzle\, death\, and music\, music\, music!
X-ALT-DESC;FMTTYPE=text/html:The Songs of Billy Butler as Conceptualized by The Mad Men of Oopsy Daisy Inc. is twenty-four song cycle in the vain of Jacques Brel Is Alive And Well&hellip\; with a nod to Edward Gorey\, Tim Burton\, and Jim Henson. Each song is a fully produced spectacle brought to life by an ensemble of performers and musicians with: puppets\, aerial dancing\, shadows\, darkness\, light\, cirque\, burlesque\, mechanicals\, marionettes\, comedy\, tragedy\, razzle-dazzle\, death\, and music\, music\, music!
LOCATION:105 Marcy Street Portsmouth\, NH
UID:e.1659.27566
SEQUENCE:3
DTSTAMP:20260421T225118Z
URL:https://business.portsmouthchamber.org/events/details/the-players-ring-presents-bitter-pill-10-30-2016-27566
END:VEVENT

END:VCALENDAR
