BEGIN:VCALENDAR
VERSION:2.0
PRODID:-//ChamberMaster//Event Calendar 2.0//EN
METHOD:PUBLISH
X-PUBLISHED-TTL:P3D
REFRESH-INTERVAL:P3D
CALSCALE:GREGORIAN
BEGIN:VEVENT
DTSTART:20170116T010000Z
DTEND:20170116T030000Z
X-MICROSOFT-CDO-ALLDAYEVENT:FALSE
SUMMARY:The Players Ring Presents: Doubt
DESCRIPTION:By John Patrick Shanley\n\nDirected by Denise Gordon\n\nProduced by Sandi Clark of Jukwaa Mazua\n\n \n\nSet at a Catholic school in the Bronx\, the play centers on a nun who grows suspicious when a priest begins taking too much interest in the school's first black student Donald Miller.  Sister James\, a hopeful innocent\, shares with Sister Aloysius her guilt-inducing suspicion that Father Flynn is paying too much personal attention to Donald. Sister Aloysius sets off on a personal crusade to unearth the truth and to expunge Flynn from the school. Now\, without a shard of proof besides her moral certainty\, Sister Aloysius locks into a battle of wills with Father Flynn which threatens to tear apart the community with irrevocable consequences. Is she being overly protective or not protective enough? And can she work within the system to discover the truth?\n\n\n\nWinner of the 2005 Pulitzer Prize and Tony Award.
X-ALT-DESC;FMTTYPE=text/html:By John Patrick Shanley<br />\nDirected by Denise Gordon<br />\nProduced by Sandi Clark of Jukwaa Mazua<br />\n&#8203\;<br />\nSet at a Catholic school in the Bronx\, the play centers on a nun who grows suspicious when a priest begins taking too much interest in the school&rsquo\;s first black student Donald Miller. &nbsp\;Sister James\, a hopeful innocent\, shares with Sister Aloysius her guilt-inducing suspicion that Father Flynn is paying too much personal attention to Donald. Sister Aloysius sets off on a personal crusade to unearth the truth and to expunge Flynn from the school. Now\, without a shard of proof besides her moral certainty\, Sister Aloysius locks into a battle of wills with Father Flynn which threatens to tear apart the community with irrevocable consequences. Is she being overly protective or not protective enough? And can she work within the system to discover the truth?<br />\n<br />\nWinner of the 2005 Pulitzer Prize and Tony Award.
LOCATION:Players Ring 105 Marcy Street\, Portsmouth
UID:e.1659.28285
SEQUENCE:3
DTSTAMP:20260421T181003Z
URL:https://business.portsmouthchamber.org/events/details/the-players-ring-presents-doubt-01-15-2017-28285
END:VEVENT

END:VCALENDAR
