BEGIN:VCALENDAR
VERSION:2.0
PRODID:-//ChamberMaster//Event Calendar 2.0//EN
METHOD:PUBLISH
X-PUBLISHED-TTL:P3D
REFRESH-INTERVAL:P3D
CALSCALE:GREGORIAN
BEGIN:VEVENT
DTSTART:20170312T010000Z
DTEND:20170312T030000Z
X-MICROSOFT-CDO-ALLDAYEVENT:FALSE
SUMMARY:The Players Ring presents: Hurlyburly
DESCRIPTION:By David Rabe\n\nDirected by Todd Hunter\n\nProduced by Oz Productions\n\n\n\nThis riveting drama took New York by storm in a production directed by Mike Nichols and starring William Hurt\, Sigourney Weaver\, Judith Ivey\, Christopher Walken\, Harvey Keitel\, Cynthia Nixon\, and Jerry Stiller. Characters nose deep in the decadent\, perverted\, cocaine culture that is Hollywood\, pursuing a sex crazed\, drug-addled vision of the American Dream. Later stage and screen incarnations have attracted such actors as Ethan Hawke\, Meg Ryan\, Sean Penn\, and Kevin Spacey.\n\n\n\n"Offers some of Mr. Rabe's most inventive and disturbing writing. At his impressive best\, Mr. Rabe makes grim ribald and surprisingly compassionate comedy out of the lies and\n\nrationalizations that allow his alienated men to keep functioning if not feeling in the fogs of Lotusland. They work in an industry so corrupt that its only honest executives are those who openly admit that they lie." - The New York Times\n\n\n\n"An important work\, masterfully accomplished." - Time
X-ALT-DESC;FMTTYPE=text/html:By David Rabe<br />\nDirected by Todd Hunter<br />\nProduced by Oz Productions<br />\n<br />\nThis riveting drama took New York by storm in a production directed by Mike Nichols and starring William Hurt\, Sigourney Weaver\, Judith Ivey\, Christopher Walken\, Harvey Keitel\, Cynthia Nixon\, and Jerry Stiller. Characters nose deep in the decadent\, perverted\, cocaine culture that is Hollywood\, pursuing a sex crazed\, drug-addled vision of the American Dream. Later stage and screen incarnations have attracted such actors as Ethan Hawke\, Meg Ryan\, Sean Penn\, and Kevin Spacey.<br />\n<br />\n&ldquo\;Offers some of Mr. Rabe&rsquo\;s most inventive and disturbing writing. At his impressive best\, Mr. Rabe makes grim ribald and surprisingly compassionate comedy out of the lies and<br />\nrationalizations that allow his alienated men to keep functioning if not feeling in the fogs of Lotusland. They work in an industry so corrupt that its only honest executives are those who openly admit that they lie.&rdquo\; - The New York Times<br />\n<br />\n&ldquo\;An important work\, masterfully accomplished.&rdquo\; - Time
LOCATION:The Players Rings 105 Marcy St.\, Portsmouth
UID:e.1659.28898
SEQUENCE:3
DTSTAMP:20260421T163930Z
URL:https://business.portsmouthchamber.org/events/details/the-players-ring-presents-hurlyburly-03-11-2017-28898
END:VEVENT

END:VCALENDAR
