BEGIN:VCALENDAR
VERSION:2.0
PRODID:-//ChamberMaster//Event Calendar 2.0//EN
METHOD:PUBLISH
X-PUBLISHED-TTL:P3D
REFRESH-INTERVAL:P3D
CALSCALE:GREGORIAN
BEGIN:VEVENT
DTSTART:20170219T010000Z
DTEND:20170219T030000Z
X-MICROSOFT-CDO-ALLDAYEVENT:FALSE
SUMMARY:The Players Ring presents: Morning's at Seven
DESCRIPTION:By Paul Osborn\n\nProduced by Generic Theater\n\n\n\nTo celebrate Generic Theater's 35th year of producing plays   as well as the Players' Ring's 25th anniversary season   we return to a favorite of ours:   the 2004 Spotlight Best Play\, Mornings at Seven by Paul Osborn.\n\n\n\nSet in the Midwest in 1938\, Mornings at Seven offers a slice of American family life in a much simpler time.\n\n\n\nFour sisters\, three husbands\, a nephew and his fianc e make up the warm hearted\, wrangling cast of characters.  When the play opens\, nephew Homer\, 35 years old and still living at home\, is expected to bring Myrtle\, his fianc e of seven years\, to meet the folks.  Myrtle's arrival sets off a sequence of events that turns this extended dysfunctional family upside down.\n\n\n\nHomer's reluctant move into marriage unearths old fault lines in the continuing love stories of his long-mingled aunts and uncles.  Romance still jars this family well into the autumn of their lives.  It brings out their quirks\, spells\, and foibles\, as well as their abiding strengths.\n\n\n\nFounded in late 1981 by a group of friends interested in having fun on stage while offering plays for a low ticket price\, Generic Theater has evolved into a respected theater company with a reputation for taking on artistically challenging and socially relevant material.  Wacky comedies and serious drama have always been included in our work\, and "straight" plays as well as original and improvisation-based pieces.  Generic Theater also produces a series of play readings most months at the Ring.
X-ALT-DESC;FMTTYPE=text/html:By Paul Osborn<br />\nProduced by Generic Theater<br />\n<br />\nTo celebrate Generic Theater&rsquo\;s 35th year of producing plays &ndash\; as well as the Players&rsquo\; Ring&rsquo\;s 25th anniversary season &ndash\; we return to a favorite of ours: &nbsp\; the 2004 Spotlight Best Play\, Mornings at Seven by Paul Osborn.<br />\n<br />\nSet in the Midwest in 1938\, Mornings at Seven offers a slice of American family life in a much simpler time.<br />\n<br />\nFour sisters\, three husbands\, a nephew and his fianc&eacute\;e make up the warm hearted\, wrangling cast of characters. &nbsp\;When the play opens\, nephew Homer\, 35 years old and still living at home\, is expected to bring Myrtle\, his fianc&eacute\;e of seven years\, to meet the folks. &nbsp\;Myrtle&#39\;s arrival sets off a sequence of events that turns this extended dysfunctional family upside down.<br />\n<br />\nHomer&#39\;s reluctant move into marriage unearths old fault lines in the continuing love stories of his long-mingled aunts and uncles. &nbsp\;Romance still jars this family well into the autumn of their lives. &nbsp\;It brings out their quirks\, spells\, and foibles\, as well as their abiding strengths.<br />\n<br />\nFounded in late 1981 by a group of friends interested in having fun on stage while offering plays for a low ticket price\, Generic Theater has evolved into a respected theater company with a reputation for taking on artistically challenging and socially relevant material. &nbsp\;Wacky comedies and serious drama have always been included in our work\, and &quot\;straight&quot\; plays as well as original and improvisation-based pieces. &nbsp\;Generic Theater also produces a series of play readings most months at the Ring.
LOCATION:Players Ring 105 Marcy St. Portsmouth
UID:e.1659.28299
SEQUENCE:3
DTSTAMP:20260421T164121Z
URL:https://business.portsmouthchamber.org/events/details/the-players-ring-presents-morning-s-at-seven-02-18-2017-28299
END:VEVENT

END:VCALENDAR
