BEGIN:VCALENDAR
VERSION:2.0
PRODID:-//ChamberMaster//Event Calendar 2.0//EN
METHOD:PUBLISH
X-PUBLISHED-TTL:P3D
REFRESH-INTERVAL:P3D
CALSCALE:GREGORIAN
BEGIN:VEVENT
DTSTART:20170211T010000Z
DTEND:20170211T030000Z
X-MICROSOFT-CDO-ALLDAYEVENT:FALSE
SUMMARY:The Players Ring presents: The Maids
DESCRIPTION:By Jean Genet\n\nDirected by Gary Locke\n\nProduced by Fearon Productions\n\n\n\nSisters Claire and Solange are domestic workers deeply resentful of their inferior social position. They concoct elaborate scenarios in which they murder their mistress\, and abscond with her fortune. But\, when the opportunity arises\, will they go too far? What are the unforeseen consequences of a plan which is too perfect?\n\n\n\nJean Genet's provocative tale of psychological pain and dark fantasies comes to life on the Players' Ring stage with veteran performers Whitney Smith as Claire\, and Constance Witman as Solange. Directed by Gary Locke.
X-ALT-DESC;FMTTYPE=text/html:By Jean Genet<br />\nDirected by Gary Locke<br />\nProduced by Fearon Productions<br />\n<br />\nSisters Claire and Solange are domestic workers deeply resentful of their inferior social position. They concoct elaborate scenarios in which they murder their mistress\, and abscond with her fortune. But\, when the opportunity arises\, will they go too far? What are the unforeseen consequences of a plan which is too perfect?<br />\n<br />\nJean Genet&rsquo\;s provocative tale of psychological pain and dark fantasies comes to life on the Players&rsquo\; Ring stage with veteran performers Whitney Smith as Claire\, and Constance Witman as Solange. Directed by Gary Locke.
LOCATION:Players Ring 105 Marcy St.\, Portsmouth
UID:e.1659.28295
SEQUENCE:3
DTSTAMP:20260421T181445Z
URL:https://business.portsmouthchamber.org/events/details/the-players-ring-presents-the-maids-02-10-2017-28295
END:VEVENT

END:VCALENDAR
