BEGIN:VCALENDAR
VERSION:2.0
PRODID:-//ChamberMaster//Event Calendar 2.0//EN
METHOD:PUBLISH
X-PUBLISHED-TTL:P3D
REFRESH-INTERVAL:P3D
CALSCALE:GREGORIAN
BEGIN:VEVENT
DTSTART:20170410T000000Z
DTEND:20170410T020000Z
X-MICROSOFT-CDO-ALLDAYEVENT:FALSE
SUMMARY:The Players Ring presents: The Secret of Comedy
DESCRIPTION:Original script by Michael Kimball\n\nProduced by New YORK Theater Company\n\n\n\nBy longstanding comic tradition\, the secret of comedy is timing. Thus\, with a jolt of ill-fated timing\, begins Michael Kimball's The Secret of Comedy\, which finds comedy writer Emily Petrocelli diagnosed with a terminal illness on the same day that husband Dave\, an airline pilot\, wins the MegaMillions lottery. Their 30-year-old daughter Carey\, herself an irreverent comic\, moves back home to help her parents through the ordeal.\n\n\n\nThese are intelligent people\, but each has mastered the art of avoiding emotion\, Emily and Carey through their opposing senses of humor\, and Dave from his years of flight training\, which sets him duty-bound on a course to find a cure where none exists. Carey\, complying with her mother's ban on crying\, tries to enlist Emily's help in writing a comedy routine about death. But Emily has her own mission: to lead her family through the five stages of grief\, from denial to acceptance\, before she dies.\n\n\n\nAlso accepting the acceptance challenge ("You cry\, you're gone.") is Emily's best friend Katie\, an overworked single mom\, and her morbid 16-year-old adopted daughter Chenille\, whom Emily hires as her Rainbow Girl after discovering the girl's secret: She recently reneged on a suicide pact that claimed the life of her best friend.\n\n\n\nAs Emily's illness blurs the line between dream and reality\, she begins receiving nocturnal visits from her late mother Bernice\, a humorless woman from whom Emily had been estranged for decades.\n\n\n\n"A fierce breed of comedy. An emotional wringer of a new play. An intricate and wrenching study of four evolving griefs." -Portland Phoenix\n\n\n\n"A must-see play. Theater at its best." - Portsmouth Herald\n\n\n\n"Scintillating humor and bare-bones humanity." - Foster's Daily Democrat
X-ALT-DESC;FMTTYPE=text/html:Original script by Michael Kimball<br />\nProduced by New YORK Theater Company<br />\n<br />\nBy longstanding comic tradition\, the secret of comedy is timing. Thus\, with a jolt of ill-fated timing\, begins Michael Kimball&rsquo\;s The Secret of Comedy\, which finds comedy writer Emily Petrocelli diagnosed with a terminal illness on the same day that husband Dave\, an airline pilot\, wins the MegaMillions lottery. Their 30-year-old daughter Carey\, herself an irreverent comic\, moves back home to help her parents through the ordeal.<br />\n<br />\nThese are intelligent people\, but each has mastered the art of avoiding emotion\, Emily and Carey through their opposing senses of humor\, and Dave from his years of flight training\, which sets him duty-bound on a course to find a cure where none exists. Carey\, complying with her mother&rsquo\;s ban on crying\, tries to enlist Emily&rsquo\;s help in writing a comedy routine about death. But Emily has her own mission: to lead her family through the five stages of grief\, from denial to acceptance\, before she dies.<br />\n<br />\nAlso accepting the acceptance challenge (&ldquo\;You cry\, you&rsquo\;re gone.&rdquo\;) is Emily&rsquo\;s best friend Katie\, an overworked single mom\, and her morbid 16-year-old adopted daughter Chenille\, whom Emily hires as her Rainbow Girl after discovering the girl&rsquo\;s secret: She recently reneged on a suicide pact that claimed the life of her best friend.<br />\n<br />\nAs Emily&rsquo\;s illness blurs the line between dream and reality\, she begins receiving nocturnal visits from her late mother Bernice\, a humorless woman from whom Emily had been estranged for decades.<br />\n<br />\n&quot\;A fierce breed of comedy. An emotional wringer of a new play. An intricate and wrenching study of four evolving griefs.&quot\; -Portland Phoenix<br />\n<br />\n&quot\;A must-see play. Theater at its best.&quot\; - Portsmouth Herald<br />\n<br />\n&quot\;Scintillating humor and bare-bones humanity.&quot\; - Foster&#39\;s Daily Democrat
LOCATION:The Players Ring 105 Marcy St.\, Portsmouth
UID:e.1659.28911
SEQUENCE:3
DTSTAMP:20260421T132346Z
URL:https://business.portsmouthchamber.org/events/details/the-players-ring-presents-the-secret-of-comedy-04-09-2017-28911
END:VEVENT

END:VCALENDAR
