BEGIN:VCALENDAR
VERSION:2.0
PRODID:-//ChamberMaster//Event Calendar 2.0//EN
METHOD:PUBLISH
X-PUBLISHED-TTL:P3D
REFRESH-INTERVAL:P3D
CALSCALE:GREGORIAN
BEGIN:VEVENT
DTSTART:20170529T000000Z
DTEND:20170529T020000Z
X-MICROSOFT-CDO-ALLDAYEVENT:FALSE
SUMMARY:The Players Ring presents: Venues in Fur
DESCRIPTION:By David Ives\n\nDirected by Todd Hunter\n\nProduced by Rolling Die Productions\n\n\n\nThomas\, a beleaguered playwright/director\, is desperate to find an actress to play Vanda\, the female lead in his adaptation of the classic sadomasochistic tale Venus in Fur. Into his empty audition room walks a vulgar and equally desperate actress oddly enough\, named Vanda. Though utterly wrong for the sophisticated part\, Vanda exhibits a strange command of the material\, piquing Thomas' interest with her seductive talents and secretive manner. As the two work through the script\, they blur the line between play and reality\, entering into an increasingly serious game of submission and domination that only one of them can win. A mysterious\, funny\, erotic drama that represents yet another departure for the multifaceted David Ives.\n\n\n\n"The teeter-tottering test of wills that takes place in Venus in Fur makes even the most fraught encounter between a domineering director and a sensitive performer seem like a play date in the sandbox ninety minutes of good\, kinky fun." - The New York Times\n\n\n\n"Venus In Fur invited both carnal and cerebral excitement." - The Village Voice\n\n\n\n"Wildly intelligent and sometimes frightening". - The New Yorker\n\n\n\n"David Ives' rehearsal-room look at the erotics of control is sexy\, zany\, and full of surprises." -Time Out New York\n\n\n\n"You want funny? You want sexy? Then you'll want to see Venus In Fur." - The New Jersey\n\nNewsroom
X-ALT-DESC;FMTTYPE=text/html:By David Ives<br />\nDirected by Todd Hunter<br />\nProduced by Rolling Die Productions<br />\n<br />\nThomas\, a beleaguered playwright/director\, is desperate to find an actress to play Vanda\, the female lead in his adaptation of the classic sadomasochistic tale Venus in Fur. Into his empty audition room walks a vulgar and equally desperate actress&mdash\;oddly enough\, named Vanda. Though utterly wrong for the sophisticated part\, Vanda exhibits a strange command of the material\, piquing Thomas&#39\; interest with her seductive talents and secretive manner. As the two work through the script\, they blur the line between play and reality\, entering into an increasingly serious game of submission and domination that only one of them can win. A mysterious\, funny\, erotic drama that represents yet another departure for the multifaceted David Ives.<br />\n<br />\n&ldquo\;The teeter-tottering test of wills that takes place in Venus in Fur makes even the most fraught encounter between a domineering director and a sensitive performer seem like a play date in the sandbox&hellip\;ninety minutes of good\, kinky fun.&rdquo\; - The New York Times<br />\n<br />\n&ldquo\;Venus In Fur invited both carnal and cerebral excitement.&rdquo\; - The Village Voice<br />\n<br />\n&ldquo\;Wildly intelligent and sometimes frightening&rdquo\;. - The New Yorker<br />\n<br />\n&ldquo\;David Ives&rsquo\; rehearsal-room look at the erotics of control is sexy\, zany\, and full of surprises.&rdquo\; -Time Out New York<br />\n<br />\n&ldquo\;You want funny? You want sexy? Then you&rsquo\;ll want to see Venus In Fur.&rdquo\; - The New Jersey<br />\nNewsroom
LOCATION:The Players Ring 105 Marcy St.\, Portsmouth
UID:e.1659.28932
SEQUENCE:3
DTSTAMP:20260421T132120Z
URL:https://business.portsmouthchamber.org/events/details/the-players-ring-presents-venues-in-fur-05-28-2017-28932
END:VEVENT

END:VCALENDAR
