BEGIN:VCALENDAR
VERSION:2.0
PRODID:-//ChamberMaster//Event Calendar 2.0//EN
METHOD:PUBLISH
X-PUBLISHED-TTL:P3D
REFRESH-INTERVAL:P3D
CALSCALE:GREGORIAN
BEGIN:VEVENT
DTSTART:20170731T020000Z
DTEND:20170731T030000Z
X-MICROSOFT-CDO-ALLDAYEVENT:FALSE
SUMMARY:The Players' Ring's Late Night Series: Junior's Sporting a Mohawk
DESCRIPTION:Junior's Sporting a Mohawk is the story of the relationship between two couples. Long time friends\, they are spending a weekend together when one couple learns a secret about the other that challenges and changes the very nature of their relationship. Hint: The secret is about porn and it's not what you think.
X-ALT-DESC;FMTTYPE=text/html:Junior&rsquo\;s Sporting a Mohawk is the story of the relationship between two couples. Long time friends\, they are spending a weekend together when one couple learns a secret about the other that challenges and changes the very nature of their relationship. Hint: The secret is about porn and it&rsquo\;s not what you think.
LOCATION:The Players Ring 105 Marcy St.\, Portsmouth
UID:e.1659.29549
SEQUENCE:3
DTSTAMP:20260421T102513Z
URL:https://business.portsmouthchamber.org/events/details/the-players-ring-s-late-night-series-junior-s-sporting-a-mohawk-07-30-2017-29549
END:VEVENT

END:VCALENDAR
