BEGIN:VCALENDAR
VERSION:2.0
PRODID:-//ChamberMaster//Event Calendar 2.0//EN
METHOD:PUBLISH
X-PUBLISHED-TTL:P3D
REFRESH-INTERVAL:P3D
CALSCALE:GREGORIAN
BEGIN:VEVENT
DTSTART:20170315T230000Z
DTEND:20170315T230000Z
X-MICROSOFT-CDO-ALLDAYEVENT:FALSE
SUMMARY:The Portsmouth Athenaeum host the Speaker Series with Thomas Hardiman
DESCRIPTION:Speaker Series presents Thomas Hardiman\, "America's membership Library Movement 1731-2016". The "Secrets & Treasures: 200 Years at the Portsmouth Athenaeum" lecture series is sponsored by UBS Financial Services.
X-ALT-DESC;FMTTYPE=text/html:Speaker Series presents Thomas Hardiman\, &quot\;America&#39\;s membership Library Movement 1731-2016&quot\;. The &quot\;Secrets &amp\; Treasures: 200 Years at the Portsmouth Athenaeum&quot\; lecture series is sponsored by UBS Financial Services.
LOCATION:Portsmouth Athenaeum\, Reasearch Library 9 Market Square\, Portsmouth
UID:e.1659.30102
SEQUENCE:3
DTSTAMP:20260421T164139Z
URL:https://business.portsmouthchamber.org/events/details/the-portsmouth-anthenaeum-host-the-speaker-series-with-thomas-hardiman-30102
END:VEVENT

END:VCALENDAR
