BEGIN:VCALENDAR
VERSION:2.0
PRODID:-//ChamberMaster//Event Calendar 2.0//EN
METHOD:PUBLISH
X-PUBLISHED-TTL:P3D
REFRESH-INTERVAL:P3D
CALSCALE:GREGORIAN
BEGIN:VEVENT
DTSTART;VALUE=DATE:20170422
DTEND;VALUE=DATE:20170423
TRANSP:TRANSPARENT
X-MICROSOFT-CDO-ALLDAYEVENT:TRUE
SUMMARY:The Portsmouth Athenaeum new Exhibit Opens\, Part II
DESCRIPTION:The Exhibit "Treasures of the Athenaeum" Part II opens in the Randall Gallery
X-ALT-DESC;FMTTYPE=text/html:The Exhibit &quot\;Treasures of the Athenaeum&quot\; Part II opens in the Randall Gallery
LOCATION:Portsmouth Athenaeum\, Randall Gallery 9 Market Square\, Portsmouth
UID:e.1659.30106
SEQUENCE:3
DTSTAMP:20260421T132300Z
URL:https://business.portsmouthchamber.org/events/details/the-portsmouth-athenaeum-new-exhibit-opens-part-ii-30106
END:VEVENT

END:VCALENDAR
