BEGIN:VCALENDAR
VERSION:2.0
PRODID:-//ChamberMaster//Event Calendar 2.0//EN
METHOD:PUBLISH
X-PUBLISHED-TTL:P3D
REFRESH-INTERVAL:P3D
CALSCALE:GREGORIAN
BEGIN:VEVENT
DTSTART:20170318T150000Z
DTEND:20170318T150000Z
X-MICROSOFT-CDO-ALLDAYEVENT:FALSE
SUMMARY:The Portsmouth Athenaeum presents a Gallery Talk with Sandra Rux on Founding Fathers
DESCRIPTION:Sandra Rux will present a gallery talk on "Founding Fathers (sorry no Founding Mothers)" discussing the lives and motivations of three of the founders - Nathaniel Adams\, Nathaniel Appleton Haven Jr.\, and Charles Burroughs and the lasting impact their work had on the Portsmouth Athenaeum.
X-ALT-DESC;FMTTYPE=text/html:Sandra Rux will present a gallery talk on &quot\;Founding Fathers (sorry no Founding Mothers)&quot\; discussing the lives and motivations of three of the founders - Nathaniel Adams\, Nathaniel Appleton Haven Jr.\, and Charles Burroughs and the lasting impact their work had on the Portsmouth Athenaeum.
LOCATION:Portsmouth Athenaeum\, Randall Gallery 9 Market Square\, Portsmouth
UID:e.1659.30103
SEQUENCE:3
DTSTAMP:20260421T164302Z
URL:https://business.portsmouthchamber.org/events/details/the-portsmouth-athenaeum-presents-a-gallery-talk-with-sandra-rux-on-founding-fathers-30103
END:VEVENT

END:VCALENDAR
