BEGIN:VCALENDAR
VERSION:2.0
PRODID:-//ChamberMaster//Event Calendar 2.0//EN
METHOD:PUBLISH
X-PUBLISHED-TTL:P3D
REFRESH-INTERVAL:P3D
CALSCALE:GREGORIAN
BEGIN:VEVENT
DTSTART:20170324T200000Z
DTEND:20170324T200000Z
X-MICROSOFT-CDO-ALLDAYEVENT:FALSE
SUMMARY:The Portsmouth Athenaeum presents a Memorial Concert
DESCRIPTION:Memorial Concert by Mike Blair (vocal) and Jim Prendergast (guitar) honoring Proprietors who haved passed in 2016.
X-ALT-DESC;FMTTYPE=text/html:Memorial Concert by Mike Blair (vocal) and Jim Prendergast (guitar) honoring Proprietors who haved passed in 2016.
LOCATION:The Portsmouth Athnaeum\, Reading Room 9 Market Square\, Portsmouth
UID:e.1659.30104
SEQUENCE:3
DTSTAMP:20260421T164438Z
URL:https://business.portsmouthchamber.org/events/details/the-portsmouth-athenaeum-presents-a-memorial-concert-30104
END:VEVENT

END:VCALENDAR
