BEGIN:VCALENDAR
VERSION:2.0
PRODID:-//ChamberMaster//Event Calendar 2.0//EN
METHOD:PUBLISH
X-PUBLISHED-TTL:P3D
REFRESH-INTERVAL:P3D
CALSCALE:GREGORIAN
BEGIN:VEVENT
DTSTART:20170225T160000Z
DTEND:20170226T010000Z
X-MICROSOFT-CDO-ALLDAYEVENT:FALSE
SUMMARY:The Portsmouth Gas Light- Seacoast Winter Brew Fest (Portsmouth Beer Week)
DESCRIPTION:Back for a fifth year\, the crew at 2Beerguys.com have teamed up with the Portsmouth Gaslight Company to host the 5th Annual Seacoast Winter Brew Fest. The brew fest takes place on Saturday\, February 25th\, 2017 and is the marquee event during Portsmouth Beer Week.\n\n\n\nAbout the Portsmouth Gaslight\n\n\n\nThe Portsmouth Gaslight\, is located in the former home of the city's first utility\, the Portsmouth Gas Light Co. Over the last 170 years\, it has stood the test of time-including Portsmouth's "Great Fires." If you look closely on the eastern wall\, you can still see original brick charred by the fires. Today the restaurant is appointed with rich textures of wood\, brick and copper paying homage to the Gas Light Company's role in Portsmouth's storied history. In fact\, every week we burn more than a cord of aromatic wood in the brick oven kitchen to prepare our unique wood-fired bistro cuisine. We hope you'll feel as at home at the Gas Light as we do.\n\n\n\nLocated in the heart of historic downtown Portsmouth\, the Portsmouth Gas Light Restaurant opens weekdays at 11:30am\, weekends at 11am.
X-ALT-DESC;FMTTYPE=text/html:Back for a fifth year\, the crew at 2Beerguys.com have teamed up with the Portsmouth Gaslight Company to host the 5th Annual Seacoast Winter Brew Fest. The brew fest takes place on Saturday\, February 25th\, 2017 and is the marquee event during Portsmouth Beer Week.<br />\n<br />\nAbout the Portsmouth Gaslight<br />\n<br />\nThe Portsmouth Gaslight\, is located in the former home of the city&rsquo\;s first utility\, the Portsmouth Gas Light Co. Over the last 170 years\, it has stood the test of time-including Portsmouth&rsquo\;s &ldquo\;Great Fires.&rdquo\; If you look closely on the eastern wall\, you can still see original brick charred by the fires. Today the restaurant is appointed with rich textures of wood\, brick and copper paying homage to the Gas Light Company&rsquo\;s role in Portsmouth&rsquo\;s storied history. In fact\, every week we burn more than a cord of aromatic wood in the brick oven kitchen to prepare our unique wood-fired bistro cuisine. We hope you&rsquo\;ll feel as at home at the Gas Light as we do.<br />\n<br />\nLocated in the heart of historic downtown Portsmouth\, the Portsmouth Gas Light Restaurant opens weekdays at 11:30am\, weekends at 11am.<br />\n<br />\n&nbsp\;
LOCATION:The Portsmouth Gas Light 64 Market Street Portsmouth\, NH
UID:e.1659.29903
SEQUENCE:3
DTSTAMP:20260421T164435Z
URL:https://business.portsmouthchamber.org/events/details/the-portsmouth-gas-light-seacoast-winter-brew-fest-portsmouth-beer-week-29903
END:VEVENT

END:VCALENDAR
