BEGIN:VCALENDAR
VERSION:2.0
PRODID:-//ChamberMaster//Event Calendar 2.0//EN
METHOD:PUBLISH
X-PUBLISHED-TTL:P3D
REFRESH-INTERVAL:P3D
CALSCALE:GREGORIAN
BEGIN:VEVENT
DTSTART:20170304T150000Z
DTEND:20170304T200000Z
X-MICROSOFT-CDO-ALLDAYEVENT:FALSE
SUMMARY:The Portsmouth Historic House Associates present the "Life and Death in the Piscataqua Region" Symposium
DESCRIPTION:The Portsmouth Historic Sites' symposium includes four presentations:\n\n\n\nJim Craig\, Executive Director\, Albacore Park presents\, "A Measureless Peril:  Wartime Hysteria\, Spies\, Surrenders at Sea\, and German U-boats off Portsmouth in WWII"\n\n\n\nRichard Adams\, President of Wentworth-Lear Association presents\, "Notable Denizens of Portsmouth's South Cemetery"\n\n\n\nGerald W. R. Ward\, Senior Consulting Curator Emeritus\, MFA Boston and Consulting Curator Portsmouth Historical Society presents\, "Four Centuries of Portsmouth Furniture: An Introduction"\n\n\n\nKaren Raynes\, Curious Researcher/Historian/Writer\, presents the documentary film "The Queens of Hampton Beach New Hampshire: The History of the Carnival Queens & Miss Hampton Beach Beauty Pageant  1915-2015"\n\n\n\nPlus\, updates on current and upcoming projects\n\n\n\nThe symposium is a fundraiser for the Portsmouth Historic Sites and also will include raffle baskets and the sale of additional items from members Historic New England and the Gov. Langdon\, Jackson and Rundlet-May houses\, Strawbery Banke Museum\, the John Paul Jones House Museum\, the Warner House\, Wentworth-Coolidge Mansion\, the Moffatt-Ladd House and Garden\, the Wentworth-Lear Historic Houses\, the Albacore\, and the Gundalow Company.  Information on location and hours (most PHSA sites are open June through October) available at each website and http://www.portsmouthistorichouses.org
X-ALT-DESC;FMTTYPE=text/html:The Portsmouth Historic Sites&rsquo\; symposium includes four presentations:<br />\n<br />\nJim Craig\, Executive Director\, Albacore Park presents\, &ldquo\;A Measureless Peril: &nbsp\;Wartime Hysteria\, Spies\, Surrenders at Sea\, and German U-boats off Portsmouth in WWII&rdquo\;<br />\n<br />\nRichard Adams\, President of Wentworth-Lear Association presents\, &ldquo\;Notable Denizens of Portsmouth&#39\;s South Cemetery&rdquo\;<br />\n<br />\nGerald W. R. Ward\, Senior Consulting Curator Emeritus\, MFA Boston and Consulting Curator Portsmouth Historical Society presents\, &ldquo\;Four Centuries of Portsmouth Furniture: An Introduction&rdquo\;<br />\n<br />\nKaren Raynes\, Curious Researcher/Historian/Writer\, presents the documentary film &quot\;The Queens of Hampton Beach New Hampshire: The History of the Carnival Queens &amp\; Miss Hampton Beach Beauty Pageant &nbsp\;1915-2015&quot\;<br />\n<br />\nPlus\, updates on current and upcoming projects<br />\n<br />\nThe symposium is a fundraiser for the Portsmouth Historic Sites and also will include raffle baskets and the sale of additional items from members Historic New England and the Gov. Langdon\, Jackson and Rundlet-May houses\, Strawbery Banke Museum\, the John Paul Jones House Museum\, the Warner House\, Wentworth-Coolidge Mansion\, the Moffatt-Ladd House and Garden\, the Wentworth-Lear Historic Houses\, the Albacore\, and the Gundalow Company. &nbsp\;Information on location and hours (most PHSA sites are open June through October) available at each website and&nbsp\;<a href="http://www.portsmouthistorichouses.org">http://www.portsmouthistorichouses.org</a>
LOCATION:St. John's Lodge Masonic Temple 351 Middle Street\, Portsmouth
UID:e.1659.30099
SEQUENCE:3
DTSTAMP:20260421T151755Z
URL:https://business.portsmouthchamber.org/events/details/the-portsmouth-historic-house-associates-present-the-life-and-death-in-the-piscataqua-region-symposium-30099
END:VEVENT

END:VCALENDAR
