BEGIN:VCALENDAR
VERSION:2.0
PRODID:-//ChamberMaster//Event Calendar 2.0//EN
METHOD:PUBLISH
X-PUBLISHED-TTL:P3D
REFRESH-INTERVAL:P3D
CALSCALE:GREGORIAN
BEGIN:VEVENT
DTSTART:20160306T230000Z
DTEND:20160307T010000Z
X-MICROSOFT-CDO-ALLDAYEVENT:FALSE
SUMMARY:The Poseidon Adventure Beer Dinner
DESCRIPTION:Portsmouth Brewery's Chef Jon Hebert\, Head Brewer Matt Gallagher and the rest of the staff are proud to present this year's Beer Social events. \n\n\n\nThis five-course\, seated dinner showcases the bounty of the Gulf of Maine! Featuring local seafood from our own waters.
X-ALT-DESC;FMTTYPE=text/html:Portsmouth Brewery&#39\;s Chef Jon Hebert\, Head Brewer Matt Gallagher and the rest of the staff are proud to present this year&#39\;s Beer Social events.&nbsp\;<br />\n<br />\nThis five-course\, seated dinner showcases the bounty of the Gulf of Maine! Featuring local seafood from our own waters.&nbsp\;
LOCATION:Portsmouth Brewery 56 Market Street\, Portsmouth
UID:e.1659.12584
SEQUENCE:3
DTSTAMP:20260420T145053Z
URL:https://business.portsmouthchamber.org/events/details/the-poseidon-adventure-beer-dinner-03-06-2016-12584
END:VEVENT

END:VCALENDAR
