BEGIN:VCALENDAR
VERSION:2.0
PRODID:-//ChamberMaster//Event Calendar 2.0//EN
METHOD:PUBLISH
X-PUBLISHED-TTL:P3D
REFRESH-INTERVAL:P3D
CALSCALE:GREGORIAN
BEGIN:VEVENT
DTSTART:20170326T203000Z
DTEND:20170326T213000Z
X-MICROSOFT-CDO-ALLDAYEVENT:FALSE
SUMMARY:The Press Room host a Free Seacoast Jazz Society Workshop
DESCRIPTION:Free Seacoast Jazz Society Workshop
X-ALT-DESC;FMTTYPE=text/html:Free Seacoast Jazz Society Workshop
LOCATION:The Press Room 77 Daniel Street Portsmouth\, NH
UID:e.1659.30096
SEQUENCE:3
DTSTAMP:20260421T163930Z
URL:https://business.portsmouthchamber.org/events/details/the-press-room-host-a-free-seacoast-jazz-society-workshop-30096
END:VEVENT

END:VCALENDAR
