BEGIN:VCALENDAR
VERSION:2.0
PRODID:-//ChamberMaster//Event Calendar 2.0//EN
METHOD:PUBLISH
X-PUBLISHED-TTL:P3D
REFRESH-INTERVAL:P3D
CALSCALE:GREGORIAN
BEGIN:VEVENT
DTSTART:20170318T023000Z
DTEND:20170318T023000Z
X-MICROSOFT-CDO-ALLDAYEVENT:FALSE
SUMMARY:The Press Room invites you to their Dance Party Upstairs!
DESCRIPTION:Mike and Hannah on the 1s and 2s\, come party with old friends and the press room gang before suffering through awful political discussion with your family on thursday.
X-ALT-DESC;FMTTYPE=text/html:Mike and Hannah on the 1s and 2s\, come party with old friends and the press room gang before suffering through awful political discussion with your family on thursday.
LOCATION:The Press Room 77 Daniel Street Portsmouth\, NH
UID:e.1659.30091
SEQUENCE:3
DTSTAMP:20260421T151601Z
URL:https://business.portsmouthchamber.org/events/details/the-press-room-invites-you-to-their-dance-party-upstairs-30091
END:VEVENT

END:VCALENDAR
