BEGIN:VCALENDAR
VERSION:2.0
PRODID:-//ChamberMaster//Event Calendar 2.0//EN
METHOD:PUBLISH
X-PUBLISHED-TTL:P3D
REFRESH-INTERVAL:P3D
CALSCALE:GREGORIAN
BEGIN:VEVENT
DTSTART:20161213T010000Z
DTEND:20161213T040000Z
X-MICROSOFT-CDO-ALLDAYEVENT:FALSE
SUMMARY:The Press Room presents: 7oddSeven
DESCRIPTION:7oddSeven is a daring musical ensemble that draws inspiration from world music\, jazz\, and rock\, while artfully navigating total group improvisation. The band   Mike Rossi (electric bass)\, Tim Gilmore (drums)\, Randy Roos (electric guitar)\, Dave Kobrenski (percussion and flute)\, Jared Steer (drums)\, Jon Lorentz (saxophone and voice)\, and Tom Robinson (electric keyboard)   invites you to witness the creative process in an engaging and original format where audience reaction and encouragement will determine the outcome of the song.
X-ALT-DESC;FMTTYPE=text/html:7oddSeven is a daring musical ensemble that draws inspiration from world music\, jazz\, and rock\, while artfully navigating total group improvisation. The band &mdash\; Mike Rossi (electric bass)\, Tim Gilmore (drums)\, Randy Roos (electric guitar)\, Dave Kobrenski (percussion and flute)\, Jared Steer (drums)\, Jon Lorentz (saxophone and voice)\, and Tom Robinson (electric keyboard) &mdash\; invites you to witness the creative process in an engaging and original format where audience reaction and encouragement will determine the outcome of the song.
LOCATION:The Press Room 77 Daniel Street\, Portsmouth
UID:e.1659.28026
SEQUENCE:3
DTSTAMP:20260421T192616Z
URL:https://business.portsmouthchamber.org/events/details/the-press-room-presents-7oddseven-28026
END:VEVENT

END:VCALENDAR
