BEGIN:VCALENDAR
VERSION:2.0
PRODID:-//ChamberMaster//Event Calendar 2.0//EN
METHOD:PUBLISH
X-PUBLISHED-TTL:P3D
REFRESH-INTERVAL:P3D
CALSCALE:GREGORIAN
BEGIN:VEVENT
DTSTART:20170305T030000Z
DTEND:20170305T044500Z
X-MICROSOFT-CDO-ALLDAYEVENT:FALSE
SUMMARY:The Press Room presents Amulus
DESCRIPTION:Amulus is a genre-bending improvisational rock band that continues to turn heads as they strive to make each show a unique experience for their fans and friends. Based out of the seacoast New Hampshire area\, the band blends elements of Rock\, Funk and Reggae with spattered bits of Classical\, Latin\, Trance and Metal along the way. While leaving their former band name\, "String Theory"\, behind\, Amulus has their sights set on the future\, with many shows to come and an album release set for the Fall of 2014.
X-ALT-DESC;FMTTYPE=text/html:Amulus is a genre-bending improvisational rock band that continues to turn heads as they strive to make each show a unique experience for their fans and friends. Based out of the seacoast New Hampshire area\, the band blends elements of Rock\, Funk and Reggae with spattered bits of Classical\, Latin\, Trance and Metal along the way. While leaving their former band name\, &quot\;String Theory&quot\;\, behind\, Amulus has their sights set on the future\, with many shows to come and an album release set for the Fall of 2014.
LOCATION:The Press Room 77 Daniel Street Portsmouth\, NH
UID:e.1659.30082
SEQUENCE:3
DTSTAMP:20260421T163608Z
URL:https://business.portsmouthchamber.org/events/details/the-press-room-presents-amulus-30082
END:VEVENT

END:VCALENDAR
