BEGIN:VCALENDAR
VERSION:2.0
PRODID:-//ChamberMaster//Event Calendar 2.0//EN
METHOD:PUBLISH
X-PUBLISHED-TTL:P3D
REFRESH-INTERVAL:P3D
CALSCALE:GREGORIAN
BEGIN:VEVENT
DTSTART:20161208T030000Z
DTEND:20161208T044500Z
X-MICROSOFT-CDO-ALLDAYEVENT:FALSE
SUMMARY:The Press Room presents: Chelsea Paolini
DESCRIPTION:The gregarious and talented frontwoman of Portsmouth's own People Skills performing solo acoustic downstairs.
X-ALT-DESC;FMTTYPE=text/html:The gregarious and talented frontwoman of Portsmouth&#39\;s own People Skills performing solo acoustic downstairs.
LOCATION:The Press Room 77 Daniel Street\, Portsmouth
UID:e.1659.28024
SEQUENCE:3
DTSTAMP:20260421T193109Z
URL:https://business.portsmouthchamber.org/events/details/the-press-room-presents-chelsea-paolini-28024
END:VEVENT

END:VCALENDAR
