BEGIN:VCALENDAR
VERSION:2.0
PRODID:-//ChamberMaster//Event Calendar 2.0//EN
METHOD:PUBLISH
X-PUBLISHED-TTL:P3D
REFRESH-INTERVAL:P3D
CALSCALE:GREGORIAN
BEGIN:VEVENT
DTSTART:20170128T030000Z
DTEND:20170128T043000Z
X-MICROSOFT-CDO-ALLDAYEVENT:FALSE
SUMMARY:The Press Room presents: Chris Ross and the North
DESCRIPTION:Hancock\, Maine native\, Chris Ross has been writing and performing his songs for the better part of a decade. He mixes smokey folk with a rambling and witty lyricism\, which earned him the "Songwriter Of The Year" award at the 2014 New England Music Awards. Ross and his band\, Chris Ross and the North\, released their album "Young Once" in 2015\, to critical acclaim. Their music lives comfortably in the space between Americana\, Rock\, and Country.\n\n\n\n"A voice made for acoustic guitar\, more dirt road than gravel\, never sliding off to twang\, and sharply honest" -Bluebird Reviews\n\n\n\n"Young Once is pure Americana. Fans of Zac Brown Band\, Jason Isbell\, John Hiatt\, and storytellers of similar ilk\, will find this album and act most appealing." -Bluebird Reviews
X-ALT-DESC;FMTTYPE=text/html:Hancock\, Maine native\, Chris Ross has been writing and performing his songs for the better part of a decade. He mixes smokey folk with a rambling and witty lyricism\, which earned him the &quot\;Songwriter Of The Year&quot\; award at the 2014 New England Music Awards. Ross and his band\, Chris Ross and the North\, released their album &quot\;Young Once&quot\; in 2015\, to critical acclaim. Their music lives comfortably in the space between Americana\, Rock\, and Country.<br />\n<br />\n&quot\;A voice made for acoustic guitar\, more dirt road than gravel\, never sliding off to twang\, and sharply honest&quot\; -Bluebird Reviews<br />\n<br />\n&quot\;Young Once is pure Americana. Fans of Zac Brown Band\, Jason Isbell\, John Hiatt\, and storytellers of similar ilk\, will find this album and act most appealing.&quot\; -Bluebird Reviews
LOCATION:The Press Room 77 Daniel Street Portsmouth\, NH
UID:e.1659.28273
SEQUENCE:3
DTSTAMP:20260421T182419Z
URL:https://business.portsmouthchamber.org/events/details/the-press-room-presents-chris-ross-and-the-north-28273
END:VEVENT

END:VCALENDAR
