BEGIN:VCALENDAR
VERSION:2.0
PRODID:-//ChamberMaster//Event Calendar 2.0//EN
METHOD:PUBLISH
X-PUBLISHED-TTL:P3D
REFRESH-INTERVAL:P3D
CALSCALE:GREGORIAN
BEGIN:VEVENT
DTSTART:20161217T030000Z
DTEND:20161217T044500Z
X-MICROSOFT-CDO-ALLDAYEVENT:FALSE
SUMMARY:The Press Room presents: Cosmal\, Zoo Logic and Daze Inn
DESCRIPTION:COSMAL\n\n Cosmal is a one man LIVE performance involving the live sampling and looping of several instruments and drumbeats\, progressive jams\, and a dynamic light show. Layering sounds to create the energy of a full band\, improvising and swaying between genres\, Cosmal takes you on a mystical journey through space and time\, and oh yea\, music! Cosmal's performances always feature live painting by Ali Laz!\n\n\n\nZoo Logic\n\nAustin Rogers and Jeff Blair (Producers\, Composers\, and Performers) of Zoo Logic combine future bass with cosmic rhythms for a bold explosion of ear candy. Audiences will find themselves on a roller coaster ride of emotional escapades\, largely due to their musical versatility and willingness to experiment.\n\n\n\nDaze Inn\n\nDaze Inn is a DJ/producer heralding from the musically burgeoning city of Portland\, Maine. Daze Inn's sound can be defined as melodic and bass driven while not committing to a single genre. His live performance can only be described with one word\; FUN. Always reading his crowd and being ever present\, he creates a dance party that not only gets you gyrating\, but thinking as well. It's evident he wants to take you on a auditory journey through space and time\, leaving you always wanting more by the end. \n\nConcentrating strongly on the hip hop vibe\, Daze Inn has eclectic taste in all things low-end\, experimental\, abstract and weird.
X-ALT-DESC;FMTTYPE=text/html:<strong>COSMAL<br />\n&#8203\;</strong>Cosmal is a one man LIVE performance involving the live sampling and looping of several instruments and drumbeats\, progressive jams\, and a dynamic light show. Layering sounds to create the energy of a full band\, improvising and swaying between genres\, Cosmal takes you on a mystical journey through space and time\, and oh yea\, music! Cosmal&#39\;s performances always feature live painting by Ali Laz!<br />\n<br />\n<strong>Zoo Logic</strong><br />\nAustin Rogers and Jeff Blair (Producers\, Composers\, and Performers) of Zoo Logic combine future bass with cosmic rhythms for a bold explosion of ear candy. Audiences will find themselves on a roller coaster ride of emotional escapades\, largely due to their musical versatility and willingness to experiment.<br />\n<br />\n<strong>Daze Inn</strong><br />\nDaze Inn is a DJ/producer heralding from the musically burgeoning city of Portland\, Maine. Daze Inn&#39\;s sound can be defined as melodic and bass driven while not committing to a single genre. His live performance can only be described with one word\; FUN. Always reading his crowd and being ever present\, he creates a dance party that not only gets you gyrating\, but thinking as well. It&#39\;s evident he wants to take you on a auditory journey through space and time\, leaving you always wanting more by the end.&nbsp\;<br />\nConcentrating strongly on the hip hop vibe\, Daze Inn has eclectic taste in all things low-end\, experimental\, abstract and weird.
LOCATION:The Press Room 77 Daniel Street\, Portsmouth
UID:e.1659.28029
SEQUENCE:3
DTSTAMP:20260421T211106Z
URL:https://business.portsmouthchamber.org/events/details/the-press-room-presents-cosmal-zoo-logic-and-daze-inn-28029
END:VEVENT

END:VCALENDAR
