BEGIN:VCALENDAR
VERSION:2.0
PRODID:-//ChamberMaster//Event Calendar 2.0//EN
METHOD:PUBLISH
X-PUBLISHED-TTL:P3D
REFRESH-INTERVAL:P3D
CALSCALE:GREGORIAN
BEGIN:VEVENT
DTSTART:20170414T010000Z
DTEND:20170414T030000Z
X-MICROSOFT-CDO-ALLDAYEVENT:FALSE
SUMMARY:The Press Room presents: Ervin Dhimo Trio
DESCRIPTION:Born In Tirana\, Albania In 1972\, Ervin Dhimo's Love Of Music Developed Naturally In A House Where His Father's Paintings\, Mother's Strength\, And Brother's Musicianship Abounded.\n\nAfter Completing One Year At The Conservatory Of Music In Tirana\, He Moved To Athens\, Greece And Began His Bass Studies At Philippos Nakas Conservatory. There He Met His Mentor And Friend Yiotis Kiurtsoglou\, An International Bass Master Who Introduced Ervin To The Music Of Charlie Parker\, John Coltrane\, Bill Evans And Jaco Pastorius. It Was At This Time In Ervin's Life When He Began To Understand And Appreciate The Depth Of Jazz.\n\n\n\nIn 1998 Ervin Graduated From Nakas Conservatory And Received A Scholarship From Berklee College Of Music In Boston\, Massachusetts USA. After Graduating From Berklee In 2000 With A Concentration In Performance\, He Quickly Became One Of The Most Sought After And Influential Bass Players In The New England Area\, Sharing The Stage With Talented Musicians Such As Bruce Bartlett\, Steve Hunt\, Bob Gulloti\, Herman Jonhson\, Pat Loomis\, Frank Willkins\, Leo Genovese\, Steve Langone\, Will Hudgins\, And Many Others. \n\nHe Also Studied With The Guru Of Jazz Charlie Banacos.
X-ALT-DESC;FMTTYPE=text/html:Born In Tirana\, Albania In 1972\, Ervin Dhimo&rsquo\;s Love Of Music Developed Naturally In A House Where His Father&rsquo\;s Paintings\, Mother&rsquo\;s Strength\, And Brother&rsquo\;s Musicianship Abounded.<br />\nAfter Completing One Year At The Conservatory Of Music In Tirana\, He Moved To Athens\, Greece And Began His Bass Studies At Philippos Nakas Conservatory. There He Met His Mentor And Friend Yiotis Kiurtsoglou\, An International Bass Master Who Introduced Ervin To The Music Of Charlie Parker\, John Coltrane\, Bill Evans And Jaco Pastorius. It Was At This Time In Ervin&rsquo\;s Life When He Began To Understand And Appreciate The Depth Of Jazz.<br />\n<br />\nIn 1998 Ervin Graduated From Nakas Conservatory And Received A Scholarship From Berklee College Of Music In Boston\, Massachusetts USA. After Graduating From Berklee In 2000 With A Concentration In Performance\, He Quickly Became One Of The Most Sought After And Influential Bass Players In The New England Area\, Sharing The Stage With Talented Musicians Such As Bruce Bartlett\, Steve Hunt\, Bob Gulloti\, Herman Jonhson\, Pat Loomis\, Frank Willkins\, Leo Genovese\, Steve Langone\, Will Hudgins\, And Many Others.&nbsp\;<br />\nHe Also Studied With The Guru Of Jazz Charlie Banacos.
LOCATION:The Press Room 77 Daniel Street Portsmouth\, NH
UID:e.1659.30313
SEQUENCE:3
DTSTAMP:20260421T131823Z
URL:https://business.portsmouthchamber.org/events/details/the-press-room-presents-ervin-dhimo-trio-30313
END:VEVENT

END:VCALENDAR
