BEGIN:VCALENDAR
VERSION:2.0
PRODID:-//ChamberMaster//Event Calendar 2.0//EN
METHOD:PUBLISH
X-PUBLISHED-TTL:P3D
REFRESH-INTERVAL:P3D
CALSCALE:GREGORIAN
BEGIN:VEVENT
DTSTART:20161204T030000Z
DTEND:20161204T044500Z
X-MICROSOFT-CDO-ALLDAYEVENT:FALSE
SUMMARY:The Press Room presents: Fiesta Melon and Formula 5
DESCRIPTION:Formula 5\n\nA band that truly represents Upstate New York! With members ranging from Albany to Lake George\, this 4-piece brings together its diverse influences to create a unique yet familiar sound that will make you want to move your feet. With an organic\, funk filled sound rooted in the style of some of their jam band idols\, Formula 5 brings an honest\, classic approach to a genre that is becoming increasingly filled with progressive electronic artists. With thought-provoking and soulful lyrics\, soaring melodies\, and an emphasis on tight instrumentation and improvisation\, this band brings a familiar freshness to the term "jam band". In their short tenure as a band\, they have shared the stage with regional/national acts such as Dopapod\, Consider the Source\, Twiddle\, The Heavy Pets\, The Brew\, The McLovins\, Turbine\, Goosepimp Orchestra\, and many others while playing most of the regional stops in Upstate NY and the northeast for original music. They have played regional festivals such as Catskill Chill\, The Big Up\, Strange Creek\, Backwoods Pondfest\, Green Mountain Getdown (NH)\, Autamation Indoor Music Festival (Lake George) and many others. With their roots in jam\, jazz\, funk\, blues\, bluegrass\, electronica and many others\, this group is sure to satisfy whatever your taste in music while making it truly their own\n\n\n\nFiesta Melon\n\nFiesta Melon is a high-energy\, indie-rock band with a propensity for improve. Fusing rock guitar with dance beats\, synthesizers and samplers\, Fiesta Melon creates catchy\, honest songs suggesting a range of influences from Talking Heads to Spoon via memorable hooks\, lush harmonies and textured soundscapes.
X-ALT-DESC;FMTTYPE=text/html:<strong>Formula 5</strong><br />\nA band that truly represents Upstate New York! With members ranging from Albany to Lake George\, this 4-piece brings together its diverse influences to create a unique yet familiar sound that will make you want to move your feet. With an organic\, funk filled sound rooted in the style of some of their jam band idols\, Formula 5 brings an honest\, classic approach to a genre that is becoming increasingly filled with progressive electronic artists. With thought-provoking and soulful lyrics\, soaring melodies\, and an emphasis on tight instrumentation and improvisation\, this band brings a familiar freshness to the term &quot\;jam band&quot\;. In their short tenure as a band\, they have shared the stage with regional/national acts such as Dopapod\, Consider the Source\, Twiddle\, The Heavy Pets\, The Brew\, The McLovins\, Turbine\, Goosepimp Orchestra\, and many others while playing most of the regional stops in Upstate NY and the northeast for original music. They have played regional festivals such as Catskill Chill\, The Big Up\, Strange Creek\, Backwoods Pondfest\, Green Mountain Getdown (NH)\, Autamation Indoor Music Festival (Lake George) and many others. With their roots in jam\, jazz\, funk\, blues\, bluegrass\, electronica and many others\, this group is sure to satisfy whatever your taste in music while making it truly their own<br />\n<br />\n<strong>Fiesta Melon</strong><br />\nFiesta Melon is a high-energy\, indie-rock band with a propensity for improve. Fusing rock guitar with dance beats\, synthesizers and samplers\, Fiesta Melon creates catchy\, honest songs&mdash\;suggesting a range of influences from Talking Heads to Spoon&mdash\;via memorable hooks\, lush harmonies and textured soundscapes.<br />\n&nbsp\;
LOCATION:The Press Room 77 Daniel Street\, Portsmouth
UID:e.1659.28022
SEQUENCE:3
DTSTAMP:20260421T193108Z
URL:https://business.portsmouthchamber.org/events/details/the-press-room-presents-fiesta-melon-and-formula-5-28022
END:VEVENT

END:VCALENDAR
