BEGIN:VCALENDAR
VERSION:2.0
PRODID:-//ChamberMaster//Event Calendar 2.0//EN
METHOD:PUBLISH
X-PUBLISHED-TTL:P3D
REFRESH-INTERVAL:P3D
CALSCALE:GREGORIAN
BEGIN:VEVENT
DTSTART:20161202T010000Z
DTEND:20161202T030000Z
X-MICROSOFT-CDO-ALLDAYEVENT:FALSE
SUMMARY:The Press Room presents: Gary Boisse and Brian Richardson
DESCRIPTION:Watch what happens when 2 good friends from different worlds play and meet in the middle. The duo of jazz guitarist/vocalist\, Brian Richardson and rock electric bassist\, Gary Boisse present an evening of jazz interpretations of a repertoire from the great American songbook.
X-ALT-DESC;FMTTYPE=text/html:Watch what happens when 2 good friends from different worlds play and meet in the middle. The duo of jazz guitarist/vocalist\, Brian Richardson and rock electric bassist\, Gary Boisse present an evening of jazz interpretations of a repertoire from the great American songbook.
LOCATION:The Press Room 77 Daniel Street\, Portsmouth
UID:e.1659.28020
SEQUENCE:3
DTSTAMP:20260421T210556Z
URL:https://business.portsmouthchamber.org/events/details/the-press-room-presents-gary-boisse-and-brian-richardson-28020
END:VEVENT

END:VCALENDAR
