BEGIN:VCALENDAR
VERSION:2.0
PRODID:-//ChamberMaster//Event Calendar 2.0//EN
METHOD:PUBLISH
X-PUBLISHED-TTL:P3D
REFRESH-INTERVAL:P3D
CALSCALE:GREGORIAN
BEGIN:VEVENT
DTSTART:20170411T000000Z
DTEND:20170411T030000Z
X-MICROSOFT-CDO-ALLDAYEVENT:FALSE
SUMMARY:The Press Room presents: Jim Dozet Trio
DESCRIPTION:The Jim Dozet Trio performs their very own brand of original "Folk-Soul". Combining influences of Americana\, blues\, jazz and R+B this trio delivers an eclectic array of good-time\, upbeat music. Jim's lead vocals complimented by Nick Phaneuf's steady bass and harmonies float easily over the groove of PJ Donahue's ever tasteful drumming.
X-ALT-DESC;FMTTYPE=text/html:The Jim Dozet Trio performs their very own brand of original &ldquo\;Folk-Soul&rdquo\;. Combining influences of Americana\, blues\, jazz and R+B this trio delivers an eclectic array of good-time\, upbeat music. Jim&rsquo\;s lead vocals complimented by Nick Phaneuf&rsquo\;s steady bass and harmonies float easily over the groove of PJ Donahue&rsquo\;s ever tasteful drumming.
LOCATION:The Press Room 77 Daniel Street Portsmouth\, NH
UID:e.1659.30311
SEQUENCE:3
DTSTAMP:20260421T132031Z
URL:https://business.portsmouthchamber.org/events/details/the-press-room-presents-jim-dozet-trio-30311
END:VEVENT

END:VCALENDAR
