BEGIN:VCALENDAR
VERSION:2.0
PRODID:-//ChamberMaster//Event Calendar 2.0//EN
METHOD:PUBLISH
X-PUBLISHED-TTL:P3D
REFRESH-INTERVAL:P3D
CALSCALE:GREGORIAN
BEGIN:VEVENT
DTSTART:20170223T020000Z
DTEND:20170223T040000Z
X-MICROSOFT-CDO-ALLDAYEVENT:FALSE
SUMMARY:The Press Room presents: Jimmy Jo and the Jumbol'Ayuhs
DESCRIPTION:JimmyJo & the Jumbol'Ayuhs hails from the "bayous" of coastal Maine. Based in Phippsburg\, the Jumbol'Ayuhs serve up music from Cajun Louisiana with a Downeast accent. Featuring Jim Joseph on accordion\, second fiddle\, and vocals\, and Pam Weeks on lead fiddle and vocals\, the Jumbol'Ayuhs play lively two-steps and waltzes that tug at your heartstrings. Bill Olson on guitar\, Elna Joseph on bass\, and Kit Garovoy on percussion round out the sound and provide the bottom end that will keep you dancing!
X-ALT-DESC;FMTTYPE=text/html:JimmyJo &amp\; the Jumbol&#39\;Ayuhs hails from the &quot\;bayous&quot\; of coastal Maine. Based in Phippsburg\, the Jumbol&#39\;Ayuhs serve up music from Cajun Louisiana with a Downeast accent. Featuring Jim Joseph on accordion\, second fiddle\, and vocals\, and Pam Weeks on lead fiddle and vocals\, the Jumbol&#39\;Ayuhs play lively two-steps and waltzes that tug at your heartstrings. Bill Olson on guitar\, Elna Joseph on bass\, and Kit Garovoy on percussion round out the sound and provide the bottom end that will keep you dancing!
LOCATION:The Press Room 77 Daniel Street Portsmouth\, NH
UID:e.1659.29895
SEQUENCE:3
DTSTAMP:20260421T182341Z
URL:https://business.portsmouthchamber.org/events/details/the-press-room-presents-jimmy-jo-and-the-jumbol-ayuhs-29895
END:VEVENT

END:VCALENDAR
