BEGIN:VCALENDAR
VERSION:2.0
PRODID:-//ChamberMaster//Event Calendar 2.0//EN
METHOD:PUBLISH
X-PUBLISHED-TTL:P3D
REFRESH-INTERVAL:P3D
CALSCALE:GREGORIAN
BEGIN:VEVENT
DTSTART:20161229T020000Z
DTEND:20161229T040000Z
X-MICROSOFT-CDO-ALLDAYEVENT:FALSE
SUMMARY:The Press Room presents: Kate Redgate
DESCRIPTION:Local talented singer/songwriter Kate Redgate
X-ALT-DESC;FMTTYPE=text/html:Local talented singer/songwriter Kate Redgate
LOCATION:The Press Room 77 Daniel Street\, Portsmouth
UID:e.1659.28036
SEQUENCE:3
DTSTAMP:20260421T192617Z
URL:https://business.portsmouthchamber.org/events/details/the-press-room-presents-kate-redgate-28036
END:VEVENT

END:VCALENDAR
