BEGIN:VCALENDAR
VERSION:2.0
PRODID:-//ChamberMaster//Event Calendar 2.0//EN
METHOD:PUBLISH
X-PUBLISHED-TTL:P3D
REFRESH-INTERVAL:P3D
CALSCALE:GREGORIAN
BEGIN:VEVENT
DTSTART:20170409T020000Z
DTEND:20170409T034500Z
X-MICROSOFT-CDO-ALLDAYEVENT:FALSE
SUMMARY:The Press Room presents: Krewe De Groove
DESCRIPTION:With its transcendence of Funk\, Soul\, and the culture of New Orleans\, Brandon Tarricone has brought together some of the best musicians in Massachusetts to create his guitar driven groove. Justin Lopes on B3 organ\, John Iltis on drums\, and Dave Walker on bass\, make up the Krewe's rhythm section in their tight and syncopated pocket. Sax players Eric Schindler and Henley Douglas Jr make up the horn section\, literally blowing up the funk that lays on top. Tarricone's compositions\, vocals\, arrangements\, and tasty guitar work keeps every night fresh\, fun and very danceable. With the 5 original albums Tarricone released between 2001-2016 and a large list of precisely chosen covers\, the band plays different shows every night.
X-ALT-DESC;FMTTYPE=text/html:With its transcendence of Funk\, Soul\, and the culture of New Orleans\, Brandon Tarricone has brought together some of the best musicians in Massachusetts to create his guitar driven groove. Justin Lopes on B3 organ\, John Iltis on drums\, and Dave Walker on bass\, make up the Krewe&rsquo\;s rhythm section in their tight and syncopated pocket. Sax players Eric Schindler and Henley Douglas Jr make up the horn section\, literally blowing up the funk that lays on top. Tarricone&rsquo\;s compositions\, vocals\, arrangements\, and tasty guitar work keeps every night fresh\, fun and very danceable. With the 5 original albums Tarricone released between 2001-2016 and a large list of precisely chosen covers\, the band plays different shows every night.
LOCATION:The Press Room 77 Daniel Street Portsmouth\, NH
UID:e.1659.30310
SEQUENCE:3
DTSTAMP:20260421T131948Z
URL:https://business.portsmouthchamber.org/events/details/the-press-room-presents-krewe-de-groove-30310
END:VEVENT

END:VCALENDAR
