BEGIN:VCALENDAR
VERSION:2.0
PRODID:-//ChamberMaster//Event Calendar 2.0//EN
METHOD:PUBLISH
X-PUBLISHED-TTL:P3D
REFRESH-INTERVAL:P3D
CALSCALE:GREGORIAN
BEGIN:VEVENT
DTSTART:20170512T010000Z
DTEND:20170512T030000Z
X-MICROSOFT-CDO-ALLDAYEVENT:FALSE
SUMMARY:The Press Room presents: Lux
DESCRIPTION:Once upon a time\, Jazz didn't take itself too seriously\; it was fun and entertaining. The band LUX takes jazz music back to that time\, albiet with a modern sound and material\, but this is not to say that they can't get experimental and take things "out" a bit. They are a 4 piece band\, that sounds like a 5 piece thanks to Todd Clancy and his 8-string guitar ( an instrument that is half bass\, half guitar) and their sound harkens back to the organ trio's of the 60's. Eclectic instrument aside\, the talents of this band\; Jared Holday on sax\, his brother PJ on drums and Blair Leavitt on vocals and sax\, are stellar!
X-ALT-DESC;FMTTYPE=text/html:Once upon a time\, Jazz didn&#39\;t take itself too seriously\; it was fun and entertaining. The band LUX takes jazz music back to that time\,&nbsp\;albiet&nbsp\;with a modern sound and material\, but this is not to say that they can&#39\;t get experimental and take things &quot\;out&quot\; a bit. They are a 4 piece band\, that sounds like a 5 piece thanks to Todd Clancy and his 8-string guitar ( an instrument that is half bass\, half guitar) and their sound harkens back to the organ trio&#39\;s of the 60&#39\;s. Eclectic instrument aside\, the talents of this band\; Jared&nbsp\;Holday&nbsp\;on sax\, his brother PJ on drums and Blair&nbsp\;Leavitt&nbsp\;on vocals and sax\, are stellar!
LOCATION:The Press Room 77 Daniel Street Portsmouth\, NH
UID:e.1659.30324
SEQUENCE:3
DTSTAMP:20260421T115256Z
URL:https://business.portsmouthchamber.org/events/details/the-press-room-presents-lux-30324
END:VEVENT

END:VCALENDAR
