BEGIN:VCALENDAR
VERSION:2.0
PRODID:-//ChamberMaster//Event Calendar 2.0//EN
METHOD:PUBLISH
X-PUBLISHED-TTL:P3D
REFRESH-INTERVAL:P3D
CALSCALE:GREGORIAN
BEGIN:VEVENT
DTSTART:20161206T010000Z
DTEND:20161206T040000Z
X-MICROSOFT-CDO-ALLDAYEVENT:FALSE
SUMMARY:The Press Room presents: Matt McCabe Trio
DESCRIPTION:Matt toured for 30 years with Anson Funderburgh\, Roomful of Blues\, SugarRay and Duke Robillard and has performed and recorded with many musical luminaries. Expect Straight Ahead Swingin Jazz!
X-ALT-DESC;FMTTYPE=text/html:Matt toured for 30 years with Anson Funderburgh\, Roomful of Blues\, SugarRay and Duke Robillard and has performed and recorded with many musical luminaries. Expect Straight Ahead Swingin Jazz!
LOCATION:The Press Room 77 Daniel Street\, Portsmouth
UID:e.1659.28023
SEQUENCE:3
DTSTAMP:20260421T210722Z
URL:https://business.portsmouthchamber.org/events/details/the-press-room-presents-matt-mccabe-trio-28023
END:VEVENT

END:VCALENDAR
