BEGIN:VCALENDAR
VERSION:2.0
PRODID:-//ChamberMaster//Event Calendar 2.0//EN
METHOD:PUBLISH
X-PUBLISHED-TTL:P3D
REFRESH-INTERVAL:P3D
CALSCALE:GREGORIAN
BEGIN:VEVENT
DTSTART:20170509T000000Z
DTEND:20170509T030000Z
X-MICROSOFT-CDO-ALLDAYEVENT:FALSE
SUMMARY:The Press Room presents: Max Logue
DESCRIPTION:The Max Logue Quartet is based in the Seacoast and performs original compositions as well as traditional jazz standards. Band Members are:\n\nMax Logue-Piano\n\nEric Klaxton-Saxophone\n\nTiger-Bass\n\nZak King-Drums
X-ALT-DESC;FMTTYPE=text/html:The Max Logue Quartet is based in the Seacoast and performs original compositions as well as traditional jazz standards. Band Members are:<br />\nMax Logue-Piano<br />\nEric Klaxton-Saxophone<br />\nTiger-Bass<br />\nZak King-Drums
LOCATION:The Press Room 77 Daniel Street Portsmouth\, NH
UID:e.1659.30323
SEQUENCE:3
DTSTAMP:20260421T131741Z
URL:https://business.portsmouthchamber.org/events/details/the-press-room-presents-max-logue-30323
END:VEVENT

END:VCALENDAR
