BEGIN:VCALENDAR
VERSION:2.0
PRODID:-//ChamberMaster//Event Calendar 2.0//EN
METHOD:PUBLISH
X-PUBLISHED-TTL:P3D
REFRESH-INTERVAL:P3D
CALSCALE:GREGORIAN
BEGIN:VEVENT
DTSTART:20170418T000000Z
DTEND:20170418T030000Z
X-MICROSOFT-CDO-ALLDAYEVENT:FALSE
SUMMARY:The Press Room presents: Mike Walsh Trio
DESCRIPTION:Matt Langley\, Rob Gerry and Mike Walsh\n\n\n\nPortsmouth drummer Mike Walsh leads a trio with piano and bass that gives modern interpretations to standard jazz repertoire as well as free form improvisations based on the present moment.\n\n\n\nMike Walsh has been a student of drumming for over 30 years. For the past 20 years\, Mike has been a NH seacoast based full-time drum instructor and performer. In 1999\, Mike graduated from UNH with a Bachelor's degree in Music Performance. While at UNH\, Mike studied with Bob Gullotti\, Les Harris Jr.\, and Nancy Smith. In recent years\, Mike has continued private studies with Dave Dicenso\, Steve Michaud\, Dan Weiss\, and Peter Moutis.\n\n\n\nMike is currently the drummer for several seacoast bands including Mother Superior and The Sliding Royales\, The Texas Governor and The Experiments\, Equal Time\, Fiveighthirteen\, Weird Turn Pro\, and Tiger Belly. Earlier in his career\, Mike performed and recorded with The Amorphous Band\, Analog Method\, Hipology\, and Mr Ho's Orchestrotica. The last 20 years of performing music have brought Mike performing throughout New England as well as New York City\, Las Vegas\, Toronto\, and Mexico City. \n\n\n\nMike is a drum instructor at Portsmouth Music and Arts Center and Shaker Road School in Concord\, NH. When not performing or teaching drums\, Mike also works part time at The Drum Center of Portsmouth.
X-ALT-DESC;FMTTYPE=text/html:Matt Langley\, Rob Gerry and Mike Walsh<br />\n<br />\nPortsmouth drummer Mike Walsh leads a trio with piano and bass that gives modern interpretations to standard jazz repertoire as well as free form improvisations based on the present moment.<br />\n<br />\nMike Walsh has been a student of drumming for over 30 years. For the past 20 years\, Mike has been a NH seacoast based full-time drum instructor and performer. In 1999\, Mike graduated from UNH with a Bachelor&rsquo\;s degree in Music Performance. While at UNH\, Mike studied with Bob Gullotti\, Les Harris Jr.\, and Nancy Smith. In recent years\, Mike has continued private studies with Dave Dicenso\, Steve Michaud\, Dan Weiss\, and Peter Moutis.<br />\n<br />\nMike is currently the drummer for several seacoast bands including Mother Superior and The Sliding Royales\, The Texas Governor and The Experiments\, Equal Time\, Fiveighthirteen\, Weird Turn Pro\, and Tiger Belly. Earlier in his career\, Mike performed and recorded with The Amorphous Band\, Analog Method\, Hipology\, and Mr Ho&rsquo\;s Orchestrotica. The last 20 years of performing music have brought Mike performing throughout New England as well as New York City\, Las Vegas\, Toronto\, and Mexico City.&nbsp\;<br />\n<br />\nMike is a drum instructor at Portsmouth Music and Arts Center and Shaker Road School in Concord\, NH. When not performing or teaching drums\, Mike also works part time at The Drum Center of Portsmouth.
LOCATION:The Press Room 77 Daniel Street Portsmouth\, NH
UID:e.1659.30314
SEQUENCE:3
DTSTAMP:20260421T131822Z
URL:https://business.portsmouthchamber.org/events/details/the-press-room-presents-mike-walsh-trio-30314
END:VEVENT

END:VCALENDAR
