BEGIN:VCALENDAR
VERSION:2.0
PRODID:-//ChamberMaster//Event Calendar 2.0//EN
METHOD:PUBLISH
X-PUBLISHED-TTL:P3D
REFRESH-INTERVAL:P3D
CALSCALE:GREGORIAN
BEGIN:VEVENT
DTSTART:20170506T020000Z
DTEND:20170506T034500Z
X-MICROSOFT-CDO-ALLDAYEVENT:FALSE
SUMMARY:The Press Room presents: Mother Superior and the Sliding Royales
DESCRIPTION:Mother Superior and The Sliding Royales play soul music.\n\nNot '60's soul'\, not 'Neo soul'\, not 'Rock Soul' but soul music. There is no reason or practical way to define it. With a sound that is both classic and modern\, MoSup can conjure sounds that harken equally to Motown and Stax as they do to New Orleans. With the operating principle of 'simple is best'\, the band crafts concise\, power music with a definite pop flair. \n\n\n\nFronted by the inimitable Taylor O'Donnell and supported by some of New Hampshire seacoast's finest\, Mother Superior and the Sliding Royales are something to experience.... with live shows stirring audiences up into a revival-esque frenzy.\n\n\n\nCome to a show. Come meet your new favorite band. www.mosuperior.com\n\n\n\nThe Freestones\n\nA blues band that combines country\, rock\, jazz\, reggae\, folk\, and funk into tasty jams.\n\n\n\nJarred Garneau- Lead/Slide Guitar\n\nJohn Webb- Lead Guitar/Lead Vocals\n\nMatt Smith- Bass\n\nSean Knight- Drums
X-ALT-DESC;FMTTYPE=text/html:<strong>Mother Superior and The Sliding Royales play soul music.</strong><br />\nNot &#39\;60&#39\;s soul&#39\;\, not &#39\;Neo soul&#39\;\, not &#39\;Rock Soul&#39\; but soul music. There is no reason or practical way to define it. With a sound that is both classic and modern\, MoSup can conjure sounds that harken equally to Motown and Stax as they do to New Orleans. With the operating principle of &#39\;simple is best&#39\;\, the band crafts concise\, power music with a definite pop flair.&nbsp\;<br />\n<br />\nFronted by the inimitable Taylor O&#39\;Donnell and supported by some of New Hampshire seacoast&#39\;s finest\, Mother Superior and the Sliding Royales are something to experience.... with live shows stirring audiences up into a revival-esque frenzy.<br />\n<br />\nCome to a show. Come meet your new favorite band. www.mosuperior.com<br />\n<br />\n<strong>The Freestones</strong><br />\nA blues band that combines country\, rock\, jazz\, reggae\, folk\, and funk into tasty jams.<br />\n<br />\nJarred Garneau- Lead/Slide Guitar<br />\nJohn Webb- Lead Guitar/Lead Vocals<br />\nMatt Smith- Bass<br />\nSean Knight- Drums
LOCATION:The Press Room 77 Daniel Street Portsmouth\, NH
UID:e.1659.30322
SEQUENCE:3
DTSTAMP:20260421T132519Z
URL:https://business.portsmouthchamber.org/events/details/the-press-room-presents-mother-superior-and-the-sliding-royales-30322
END:VEVENT

END:VCALENDAR
