BEGIN:VCALENDAR
VERSION:2.0
PRODID:-//ChamberMaster//Event Calendar 2.0//EN
METHOD:PUBLISH
X-PUBLISHED-TTL:P3D
REFRESH-INTERVAL:P3D
CALSCALE:GREGORIAN
BEGIN:VEVENT
DTSTART:20170316T010000Z
DTEND:20170316T030000Z
X-MICROSOFT-CDO-ALLDAYEVENT:FALSE
SUMMARY:The Press Room presents: Nick Goumas Quartet
DESCRIPTION:Tenor and soprano saxophonist Nick Goumas is a jazz musician who has developed his own mature \, imaginative and identifying style. Nick performs with energy\, feeling and musical integrity. His Quintet is joined by four outstanding Boston area musicians who all have outstanding credentials. Steve Hunt / piano\, Bruce Gertz / bass\, Ken cervenka/tpt. and Jack Diefendorf/ drums. \n\n\n\nDrawing on the " American Song Book " along with today's " Jazz Standards" \; The Nick Goumas Quintet's post Bebop\, contemporary straight ahead style and it's display of rhythmic and harmonic sense produces some exciting jazz improvisation. Their growing audience has a mixture of musicians and jazz aficionados alike.
X-ALT-DESC;FMTTYPE=text/html:Tenor and soprano saxophonist Nick Goumas is a jazz musician who has developed his own mature \, imaginative and identifying style. Nick performs with energy\, feeling and musical integrity. His Quintet is joined by four outstanding Boston area musicians who all have outstanding credentials. Steve Hunt / piano\, Bruce Gertz / bass\, Ken cervenka/tpt. and Jack Diefendorf/ drums.&nbsp\;<br />\n<br />\nDrawing on the &ldquo\; American Song Book &ldquo\; along with today&rsquo\;s &ldquo\; Jazz Standards&rdquo\; \; The Nick Goumas Quintet&lsquo\;s post Bebop\, contemporary straight ahead style and it&rsquo\;s display of rhythmic and harmonic sense produces some exciting jazz improvisation. Their growing audience has a mixture of musicians and jazz aficionados alike.
LOCATION:The Press Room 77 Daniel Street Portsmouth\, NH
UID:e.1659.30089
SEQUENCE:3
DTSTAMP:20260421T150650Z
URL:https://business.portsmouthchamber.org/events/details/the-press-room-presents-nick-goumas-quartet-30089
END:VEVENT

END:VCALENDAR
