BEGIN:VCALENDAR
VERSION:2.0
PRODID:-//ChamberMaster//Event Calendar 2.0//EN
METHOD:PUBLISH
X-PUBLISHED-TTL:P3D
REFRESH-INTERVAL:P3D
CALSCALE:GREGORIAN
BEGIN:VEVENT
DTSTART:20161118T020000Z
DTEND:20161118T043000Z
X-MICROSOFT-CDO-ALLDAYEVENT:FALSE
SUMMARY:The Press Room presents: Nihco Gallo Trio
DESCRIPTION:The Nihco Gallo Trio embraces the "sampling mentality" that has characterized much of jazz since the rise of hip-hop music. Trying to push beyond playing the jazz standards\, the vibraphonist's energetic group cross-fades between recognizable tunes from the realms of jazz\, soul\, classical\, and modern beat music\, often in quick and unpredictable succession. The whole experience relies heavily on the taste of local bassist Scott Kiefner (Vinx\, Sojoy\, Soggy Po Boys)\, and Boston drummer Zak King (Epicenter\, Freese Brothers Big Band)\, both of whom have their roots not only in jazz\, but in metal and hip-hop. Kiefner's lines are propulsive and groovy\, deep in the pocket but imbued with an unshakable modern jazz sensibility. King's beats are searingly funky in any genre and his solos betray a vast breadth of idiomatic vocabulary. Gallo\, who is also a drummer\, leads a group that is powered by hard-hitting beats in a stream-of-consciousness kind of way\, featuring improvised metric modulations and time changes beneath improvisation that tastes slightly of free jazz. With arrangements of tunes by Ornette Coleman\, Stevie Wonder\, Mingus\, Holst\, and Kanye\, every moment's a surprise.
X-ALT-DESC;FMTTYPE=text/html:The Nihco Gallo Trio embraces the &quot\;sampling mentality&quot\; that has characterized much of jazz since the rise of hip-hop music. Trying to push beyond playing the jazz standards\, the vibraphonist&#39\;s energetic group cross-fades between recognizable tunes from the realms of jazz\, soul\, classical\, and modern beat music\, often in quick and unpredictable succession. The whole experience relies heavily on the taste of local bassist Scott Kiefner (Vinx\, Sojoy\, Soggy Po Boys)\, and Boston drummer Zak King (Epicenter\, Freese Brothers Big Band)\, both of whom have their roots not only in jazz\, but in metal and hip-hop. Kiefner&#39\;s lines are propulsive and groovy\, deep in the pocket but imbued with an unshakable modern jazz sensibility. King&#39\;s beats are searingly funky in any genre and his solos betray a vast breadth of idiomatic vocabulary. Gallo\, who is also a drummer\, leads a group that is powered by hard-hitting beats in a stream-of-consciousness kind of way\, featuring improvised metric modulations and time changes beneath improvisation that tastes slightly of free jazz. With arrangements of tunes by Ornette Coleman\, Stevie Wonder\, Mingus\, Holst\, and Kanye\, every moment&#39\;s a surprise.
LOCATION:The Press Room 77 Daniel Street\, Portsmouth
UID:e.1659.28011
SEQUENCE:3
DTSTAMP:20260421T224957Z
URL:https://business.portsmouthchamber.org/events/details/the-press-room-presents-nihco-gallo-trio-28011
END:VEVENT

END:VCALENDAR
