BEGIN:VCALENDAR
VERSION:2.0
PRODID:-//ChamberMaster//Event Calendar 2.0//EN
METHOD:PUBLISH
X-PUBLISHED-TTL:P3D
REFRESH-INTERVAL:P3D
CALSCALE:GREGORIAN
BEGIN:VEVENT
DTSTART:20161218T030000Z
DTEND:20161218T044500Z
X-MICROSOFT-CDO-ALLDAYEVENT:FALSE
SUMMARY:The Press Room presents: People Like You
DESCRIPTION:A Psychedelic Folk Rock band from Portsmouth\, NH. But most importantly  People Like You are just people like you! \n\n\n\nAccolades:\n\n\n\nIrene Collins\, On Air Host on WVRV-92.5 The River\, Boston's #1 Independent Radio station\, says of their new hit single 'Behind A Cloud'\, "PEOPLE LIKE YOU is a definite new talent of songwriters and musicians that as a band seem to have no limit on originality and creativity  it will be well worth keeping an ear tuned to their music".\n\n\n\nFOH sound engineer\, Steven Sockol of Kindsound and former sound engineer for Matisyahu and SONY RECORDS\, and many national touring bands and artists\, says\, "PEOPLE LIKE YOU has a sound that is definitely going to be the next new band in the spotlight."\n\n\n\nPerry Geyer\, producer and owner of recording studios CYBERSOUND Boston and New York\, says\, "PEOPLE LIKE YOU\, as musical artists have the talent\, independent spirit\, and commercial appeal that a music producer instinctively recognizes and hopes to sign."
X-ALT-DESC;FMTTYPE=text/html:A Psychedelic Folk Rock band from Portsmouth\, NH. But most importantly&hellip\; People Like You are just people like you!&nbsp\;<br />\n<br />\nAccolades:<br />\n<br />\nIrene Collins\, On Air Host on WVRV-92.5 The River\, Boston&rsquo\;s #1 Independent Radio station\, says of their new hit single &lsquo\;Behind A Cloud&rsquo\;\, &ldquo\;PEOPLE LIKE YOU is a definite new talent of songwriters and musicians that as a band seem to have no limit on originality and creativity&hellip\; it will be well worth keeping an ear tuned to their music&rdquo\;.<br />\n<br />\nFOH sound engineer\, Steven Sockol of Kindsound and former sound engineer for Matisyahu and SONY RECORDS\, and many national touring bands and artists\, says\, &ldquo\;PEOPLE LIKE YOU has a sound that is definitely going to be the next new band in the spotlight.&rdquo\;<br />\n<br />\nPerry Geyer\, producer and owner of recording studios CYBERSOUND Boston and New York\, says\, &ldquo\;PEOPLE LIKE YOU\, as musical artists have the talent\, independent spirit\, and commercial appeal that a music producer instinctively recognizes and hopes to sign.&rdquo\;
LOCATION:The Press Room 77 Daniel Street\, Portsmouth
UID:e.1659.28030
SEQUENCE:3
DTSTAMP:20260421T210904Z
URL:https://business.portsmouthchamber.org/events/details/the-press-room-presents-people-like-you-28030
END:VEVENT

END:VCALENDAR
