BEGIN:VCALENDAR
VERSION:2.0
PRODID:-//ChamberMaster//Event Calendar 2.0//EN
METHOD:PUBLISH
X-PUBLISHED-TTL:P3D
REFRESH-INTERVAL:P3D
CALSCALE:GREGORIAN
BEGIN:VEVENT
DTSTART:20170317T010000Z
DTEND:20170317T010000Z
X-MICROSOFT-CDO-ALLDAYEVENT:FALSE
SUMMARY:The Press Room presents: Queen City Soul
DESCRIPTION:An exciting enterprising ensemble of eclectic eccentrics. \n\n\n\nQueen City Soul's priority is always to lock into the groove. \n\n\n\nIn a world filled with recycled cookie cutter music\, Queen City Soul is just one of the few trying to bring back some old school realness to music. No autotune here\, no lip syncing. NO BS.\n\n\n\nQueen City Soul is a not just a band\, but an experience. Soulful vocals\, exciting improvisations and most importantly deep groove combine in a fresh way that will leave you feeling something new every time.
X-ALT-DESC;FMTTYPE=text/html:An exciting enterprising ensemble of eclectic eccentrics.&nbsp\;<br />\n<br />\nQueen City Soul&#39\;s priority is always to lock into the groove.&nbsp\;<br />\n<br />\nIn a world filled with recycled cookie cutter music\, Queen City Soul is just one of the few trying to bring back some old school realness to music. No autotune here\, no lip syncing. NO BS.<br />\n<br />\nQueen City Soul is a not just a band\, but an experience. Soulful vocals\, exciting improvisations and most importantly deep groove combine in a fresh way that will leave you feeling something new every time.
LOCATION:The Press Room 77 Daniel Street Portsmouth\, NH
UID:e.1659.30090
SEQUENCE:3
DTSTAMP:20260421T151333Z
URL:https://business.portsmouthchamber.org/events/details/the-press-room-presents-queen-city-soul-30090
END:VEVENT

END:VCALENDAR
