BEGIN:VCALENDAR
VERSION:2.0
PRODID:-//ChamberMaster//Event Calendar 2.0//EN
METHOD:PUBLISH
X-PUBLISHED-TTL:P3D
REFRESH-INTERVAL:P3D
CALSCALE:GREGORIAN
BEGIN:VEVENT
DTSTART:20161220T010000Z
DTEND:20161220T040000Z
X-MICROSOFT-CDO-ALLDAYEVENT:FALSE
SUMMARY:The Press Room presents: Randy Roos' Urethane
DESCRIPTION:Randy Roos' Urethane is an original quartet that features the compositions of Randy Roos. From his critically acclaimed album Mistral to more recent compositions\, the band selects tunes from Randy's expansive catalog to perform. With each band members distinct influences and background\, the music is fresh\, exciting and daring.
X-ALT-DESC;FMTTYPE=text/html:Randy Roos&#39\; Urethane is an original quartet that features the compositions of Randy Roos. From his critically acclaimed album Mistral to more recent compositions\, the band selects tunes from Randy&#39\;s expansive catalog to perform. With each band members distinct influences and background\, the music is fresh\, exciting and daring.
LOCATION:The Press Room 77 Daniel Street\, Portsmouth
UID:e.1659.28031
SEQUENCE:3
DTSTAMP:20260421T192751Z
URL:https://business.portsmouthchamber.org/events/details/the-press-room-presents-randy-roos-urethane-28031
END:VEVENT

END:VCALENDAR
