BEGIN:VCALENDAR
VERSION:2.0
PRODID:-//ChamberMaster//Event Calendar 2.0//EN
METHOD:PUBLISH
X-PUBLISHED-TTL:P3D
REFRESH-INTERVAL:P3D
CALSCALE:GREGORIAN
BEGIN:VEVENT
DTSTART:20170105T020000Z
DTEND:20170105T040000Z
X-MICROSOFT-CDO-ALLDAYEVENT:FALSE
SUMMARY:The Press Room presents Ray Mason
DESCRIPTION:Ray Mason is often called the Godfather of the New England music scene. Godfathers are usually that cool uncle or friend of your parents who tells good stories and gives you advice on the things that matter. As the Godfather of the scene\, Ray tells stories in his songs and has given more sage advice to young musicians than anyone can possibly imagine. Mentoring musicians is just another feather in the cap of Mason\, who continues to be an icon to people who know music.
X-ALT-DESC;FMTTYPE=text/html:Ray Mason is often called the Godfather of the New England music scene. Godfathers are usually that cool uncle or friend of your parents who tells good stories and gives you advice on the things that matter. As the Godfather of the scene\, Ray tells stories in his songs and has given more sage advice to young musicians than anyone can possibly imagine. Mentoring musicians is just another feather in the cap of Mason\, who continues to be an icon to people who know music.
LOCATION:The Press Room 77 Daniel Street Portsmouth\, NH
UID:e.1659.28254
SEQUENCE:3
DTSTAMP:20260421T181651Z
URL:https://business.portsmouthchamber.org/events/details/the-press-room-presents-ray-mason-28254
END:VEVENT

END:VCALENDAR
