BEGIN:VCALENDAR
VERSION:2.0
PRODID:-//ChamberMaster//Event Calendar 2.0//EN
METHOD:PUBLISH
X-PUBLISHED-TTL:P3D
REFRESH-INTERVAL:P3D
CALSCALE:GREGORIAN
BEGIN:VEVENT
DTSTART:20170224T003000Z
DTEND:20170224T023000Z
X-MICROSOFT-CDO-ALLDAYEVENT:FALSE
SUMMARY:The Press Room presents: Rose Cousins
DESCRIPTION:A native of Prince Edward Island\, Rose Cousins lives in Halifax Nova Scotia. She deeply values being part of multiple music communities\, and is constantly fueled by collaboration. Cousins' 2012 album We Have Made A Spark celebrated her Boston community and featured a cast of musicians Cousins had known and played music with for a decade. It won a JUNO Award\, 3 East Coast Music Awards\, a Canadian Folk Music Award\, was nominated for the Polaris Music Prize\, and made picks/best of lists in USA Today\, NPR Music and Oprah Magazine. Her music has found its way into several TV shows including Grey's Anatomy.
X-ALT-DESC;FMTTYPE=text/html:A native of Prince Edward Island\, Rose Cousins lives in Halifax Nova Scotia. She deeply values being part of multiple music communities\, and is constantly fueled by collaboration. Cousins&#39\; 2012 album We Have Made A Spark celebrated her Boston community and featured a cast of musicians Cousins had known and played music with for a decade. It won a JUNO Award\, 3 East Coast Music Awards\, a Canadian Folk Music Award\, was nominated for the Polaris Music Prize\, and made picks/best of lists in USA Today\, NPR Music and Oprah Magazine. Her music has found its way into several TV shows including Grey&#39\;s Anatomy.
LOCATION:The Press Room 77 Daniel Street Portsmouth\, NH
UID:e.1659.29896
SEQUENCE:3
DTSTAMP:20260421T163557Z
URL:https://business.portsmouthchamber.org/events/details/the-press-room-presents-rose-cousins-29896
END:VEVENT

END:VCALENDAR
