BEGIN:VCALENDAR
VERSION:2.0
PRODID:-//ChamberMaster//Event Calendar 2.0//EN
METHOD:PUBLISH
X-PUBLISHED-TTL:P3D
REFRESH-INTERVAL:P3D
CALSCALE:GREGORIAN
BEGIN:VEVENT
DTSTART:20161227T010000Z
DTEND:20161227T040000Z
X-MICROSOFT-CDO-ALLDAYEVENT:FALSE
SUMMARY:The Press Room presents: Scott Kiefner Group
DESCRIPTION:Scott Kiefner Group features local jazz bassist Scott Kiefner with a rotating assembly of some of the best players from the seacoast area.
X-ALT-DESC;FMTTYPE=text/html:Scott Kiefner Group features local jazz bassist Scott Kiefner with a rotating assembly of some of the best players from the seacoast area.
LOCATION:The Press Room 77 Daniel Street\, Portsmouth
UID:e.1659.28035
SEQUENCE:3
DTSTAMP:20260421T192616Z
URL:https://business.portsmouthchamber.org/events/details/the-press-room-presents-scott-kiefner-group-28035
END:VEVENT

END:VCALENDAR
