BEGIN:VCALENDAR
VERSION:2.0
PRODID:-//ChamberMaster//Event Calendar 2.0//EN
METHOD:PUBLISH
X-PUBLISHED-TTL:P3D
REFRESH-INTERVAL:P3D
CALSCALE:GREGORIAN
BEGIN:VEVENT
DTSTART:20170123T233000Z
DTEND:20170124T013000Z
X-MICROSOFT-CDO-ALLDAYEVENT:FALSE
SUMMARY:The Press Room presents: ShakesBEERience - Measure for Measure
DESCRIPTION:ABOUT ShakesBEERience:\n\nOne Monday night a month from 6:30PM   8:30PM upstairs at The Press Room in Portsmouth\, NH\, professional actors present a reading of a different Shakespeare play\, for FREE.\n\n\n\nThat's right!- this event is FREE FOR ALL\, Or Pay What You Will. We do encourage you to take advantage of The Press Room's tasty treats and libations! What better way to explore the Bard than the way it was intended?- out loud!\n\n\n\nEmbracing both the professionalism and playfulness you've come to expect from 7SSC's programs such as our first three seasons of ShakesBEERience and our past five seasons of Shakespeare in Prescott Park\, our goal is to unpack the language in a fun\, unique and accessible way in an easy-going\, and entertaining environment.\n\n\n\nHungry?- order some food and eat dinner while you experience the play! Thirsty?- refill your pint!- (the actors certainly will!)\n\n\n\nWhether you come for the whole reading\, or can just stay for one scene- the ShakesBEERience you have with us is up to you.
X-ALT-DESC;FMTTYPE=text/html:ABOUT ShakesBEERience:<br />\nOne Monday night a month from 6:30PM &ndash\; 8:30PM upstairs at The Press Room in Portsmouth\, NH\, professional actors present a reading of a different Shakespeare play\, for FREE.<br />\n<br />\nThat&rsquo\;s right!- this event is FREE FOR ALL\, Or Pay What You Will. We do encourage you to take advantage of The Press Room&rsquo\;s tasty treats and libations! What better way to explore the Bard than the way it was intended?- out loud!<br />\n<br />\nEmbracing both the professionalism and playfulness you&rsquo\;ve come to expect from 7SSC&#39\;s programs such as our first three seasons of ShakesBEERience and our past five seasons of Shakespeare in Prescott Park\, our goal is to unpack the language in a fun\, unique and accessible way in an easy-going\, and entertaining environment.<br />\n<br />\nHungry?- order some food and eat dinner while you experience the play! Thirsty?- refill your pint!- (the actors certainly will!)<br />\n<br />\nWhether you come for the whole reading\, or can just stay for one scene- the ShakesBEERience you have with us is up to you.
LOCATION:The Press Room 77 Daniel Street Portsmouth\, NH
UID:e.1659.28270
SEQUENCE:3
DTSTAMP:20260421T182341Z
URL:https://business.portsmouthchamber.org/events/details/the-press-room-presents-shakesbeerience-measure-for-measure-28270
END:VEVENT

END:VCALENDAR
