BEGIN:VCALENDAR
VERSION:2.0
PRODID:-//ChamberMaster//Event Calendar 2.0//EN
METHOD:PUBLISH
X-PUBLISHED-TTL:P3D
REFRESH-INTERVAL:P3D
CALSCALE:GREGORIAN
BEGIN:VEVENT
DTSTART:20170408T020000Z
DTEND:20170408T034500Z
X-MICROSOFT-CDO-ALLDAYEVENT:FALSE
SUMMARY:The Press Room presents: Stop Tito with Roots\, Rhythm\, and DUb
DESCRIPTION:Stop Tito Collective has taken the influences and roots of traditional reggae and exploded into the realms of funk inspired\, improvised jams. Their unique style that blends reggae\, rock\, jam\, and funk has allowed them to develop into a fully energetic live show. Developing a strong sense of musicianship on stage\, STC has been able to captivate audiences with their full sound and improvised grooves. The members of STC each bring their own interests and tastes in music to combine for what is completely pleasurable to the ears and good for the soul. STC has been emerging into the Northeast festival scene\, playing events such as Uphoria Festival\, New England Canna Carnival\, Big Dig Music and Mining Festival\, Great North Music and Arts Festival\, Native Summer Festival\, and Wild Woods Music and Arts Festival.
X-ALT-DESC;FMTTYPE=text/html:Stop Tito Collective has taken the influences and roots of traditional reggae and exploded into the realms of funk inspired\, improvised jams. Their unique style that blends reggae\, rock\, jam\, and funk has allowed them to develop into a fully energetic live show. Developing a strong sense of musicianship on stage\, STC has been able to captivate audiences with their full sound and improvised grooves. The members of STC each bring their own interests and tastes in music to combine for what is completely pleasurable to the ears and good for the soul. STC has been emerging into the Northeast festival scene\, playing events such as Uphoria Festival\, New England Canna Carnival\, Big Dig Music and Mining Festival\, Great North Music and Arts Festival\, Native Summer Festival\, and Wild Woods Music and Arts Festival.
LOCATION:The Press Room 77 Daniel Street Portsmouth\, NH
UID:e.1659.30309
SEQUENCE:3
DTSTAMP:20260421T131941Z
URL:https://business.portsmouthchamber.org/events/details/the-press-room-presents-stop-tito-with-roots-rhythm-and-dub-30309
END:VEVENT

END:VCALENDAR
