BEGIN:VCALENDAR
VERSION:2.0
PRODID:-//ChamberMaster//Event Calendar 2.0//EN
METHOD:PUBLISH
X-PUBLISHED-TTL:P3D
REFRESH-INTERVAL:P3D
CALSCALE:GREGORIAN
BEGIN:VEVENT
DTSTART:20161223T020000Z
DTEND:20161223T044500Z
X-MICROSOFT-CDO-ALLDAYEVENT:FALSE
SUMMARY:The Press Room presents: The Acquaintences
DESCRIPTION:The Acquaintances" is a trio playing mostly original music. We also do a fair share of covers including everything from Jazz standards to Rockabilly\, music from "The Band"\, "The Grateful Dead"\, "The Beatles" and more. Our collective experience encompasses such a wide variety of styles that we like to call it "Americlectic". We are available for private events as well as club dates. You can usually hear us on the 2nd Friday of every month at The High Falls Cafe where there's no telling who might just show up as a guest. Please visit our website for some examples of our music and links to some of the venues we have played. We look forward to getting to know you.
X-ALT-DESC;FMTTYPE=text/html:The Acquaintances&quot\; is a trio playing mostly original music. We also do a fair share of covers including everything from Jazz standards to Rockabilly\, music from &quot\;The Band&quot\;\, &quot\;The Grateful Dead&quot\;\, &quot\;The Beatles&quot\; and more. Our collective experience encompasses such a wide variety of styles that we like to call it &quot\;Americlectic&quot\;. We are available for private events as well as club dates. You can usually hear us on the 2nd Friday of every month at The High Falls Cafe where there&#39\;s no telling who might just show up as a guest. Please visit our website for some examples of our music and links to some of the venues we have played. We look forward to getting to know you.
LOCATION:The Press Room 77 Daniel Street\, Portsmouth
UID:e.1659.28033
SEQUENCE:3
DTSTAMP:20260421T193015Z
URL:https://business.portsmouthchamber.org/events/details/the-press-room-presents-the-acquaintences-28033
END:VEVENT

END:VCALENDAR
